BEGIN:VCALENDAR
VERSION:2.0
PRODID:-//Maison des Habitants - MJC Centre Social | St-Julien - ECPv6.15.16//NONSGML v1.0//EN
CALSCALE:GREGORIAN
METHOD:PUBLISH
X-WR-CALNAME:Maison des Habitants - MJC Centre Social | St-Julien
X-ORIGINAL-URL:https://www.maisondeshabitants.fr
X-WR-CALDESC:Évènements pour Maison des Habitants - MJC Centre Social | St-Julien
REFRESH-INTERVAL;VALUE=DURATION:PT1H
X-Robots-Tag:noindex
X-PUBLISHED-TTL:PT1H
BEGIN:VTIMEZONE
TZID:Europe/Paris
BEGIN:DAYLIGHT
TZOFFSETFROM:+0100
TZOFFSETTO:+0200
TZNAME:CEST
DTSTART:20250330T010000
END:DAYLIGHT
BEGIN:STANDARD
TZOFFSETFROM:+0200
TZOFFSETTO:+0100
TZNAME:CET
DTSTART:20251026T010000
END:STANDARD
BEGIN:DAYLIGHT
TZOFFSETFROM:+0100
TZOFFSETTO:+0200
TZNAME:CEST
DTSTART:20260329T010000
END:DAYLIGHT
BEGIN:STANDARD
TZOFFSETFROM:+0200
TZOFFSETTO:+0100
TZNAME:CET
DTSTART:20261025T010000
END:STANDARD
BEGIN:DAYLIGHT
TZOFFSETFROM:+0100
TZOFFSETTO:+0200
TZNAME:CEST
DTSTART:20270328T010000
END:DAYLIGHT
BEGIN:STANDARD
TZOFFSETFROM:+0200
TZOFFSETTO:+0100
TZNAME:CET
DTSTART:20271031T010000
END:STANDARD
END:VTIMEZONE
BEGIN:VEVENT
DTSTART;TZID=Europe/Paris:20260420T100000
DTEND;TZID=Europe/Paris:20260420T110000
DTSTAMP:20260420T124157
CREATED:20260309T150121Z
LAST-MODIFIED:20260331T152300Z
UID:10000700-1776679200-1776682800@www.maisondeshabitants.fr
SUMMARY:Atelier poterie en famille
DESCRIPTION:Au cours de ces ateliers encadrés par Isabelle Collombet\, découvrez avec votre enfant le plaisir de manipuler l’argile ! \nÀ travers des projets ludiques\, façonnez la terre et explorez différentes formes et textures. Cette activité à la fois amusante et apaisante stimule la créativité des enfants tout en développant leur motricité fine. \nLes lundis 30 mars\, 20 et 27 avril de 10h à 11h à la Maison des Habitants. \nAu programme : \n\n20 avril\, découverte sensorielle : découverte sensorielle de l’argile par le toucher. L’enfant est invité à manipuler l’argile à mains\nnues. Il peut la manipuler ou y laisser des empreintes (objets\, doigts). L’activité se déroule de manière libre\, afin que l’enfant explore sans objectif de production. \n27 avril\, empreinte éternelle\n\nConditions d’accès : \n\nEnfant de 18 mois à 4 ans\, accompagnés de leurs parents\nPlaces limitées\n25€/famille/séance.  Adhésion* à la MdH nécessaire\nInscription auprès de l’accueil de la Maison des habitants ou via l’Espace Famille\nPlus d’informations au : 04 50 49 23 68\n\n*L’adhésion est valable jusqu’au 31 août 2026 et vous donne accès aux activités\, animations\, stage\,… gratuits ou payants\, proposés par notre structure.
URL:https://www.maisondeshabitants.fr/agenda/atelier-poterie-en-famille-2/
LOCATION:La MIEF\, 3 rue du Jura\, Saint-Julien-en-Genevois\, 74160\, France
CATEGORIES:Activités manuelles,Famille,Les "ateliers",Parentalité
ATTACH;FMTTYPE=image/png:https://www.maisondeshabitants.fr/wp-content/uploads/2026/03/Bandeau-site-Poterie-parents-enfants-20-avril-ok.png
ORGANIZER;CN="Maison des Habitants":MAILTO:info@maisondeshabitants.fr
GEO:46.1457561;6.0824952
X-APPLE-STRUCTURED-LOCATION;VALUE=URI;X-ADDRESS=La MIEF 3 rue du Jura Saint-Julien-en-Genevois 74160 France;X-APPLE-RADIUS=500;X-TITLE=3 rue du Jura:geo:6.0824952,46.1457561
END:VEVENT
END:VCALENDAR