BEGIN:VCALENDAR
VERSION:2.0
PRODID:-//Maison des Habitants - MJC Centre Social | St-Julien - ECPv6.15.16//NONSGML v1.0//EN
CALSCALE:GREGORIAN
METHOD:PUBLISH
X-WR-CALNAME:Maison des Habitants - MJC Centre Social | St-Julien
X-ORIGINAL-URL:https://www.maisondeshabitants.fr
X-WR-CALDESC:Évènements pour Maison des Habitants - MJC Centre Social | St-Julien
REFRESH-INTERVAL;VALUE=DURATION:PT1H
X-Robots-Tag:noindex
X-PUBLISHED-TTL:PT1H
BEGIN:VTIMEZONE
TZID:Europe/Paris
BEGIN:DAYLIGHT
TZOFFSETFROM:+0100
TZOFFSETTO:+0200
TZNAME:CEST
DTSTART:20250330T010000
END:DAYLIGHT
BEGIN:STANDARD
TZOFFSETFROM:+0200
TZOFFSETTO:+0100
TZNAME:CET
DTSTART:20251026T010000
END:STANDARD
BEGIN:DAYLIGHT
TZOFFSETFROM:+0100
TZOFFSETTO:+0200
TZNAME:CEST
DTSTART:20260329T010000
END:DAYLIGHT
BEGIN:STANDARD
TZOFFSETFROM:+0200
TZOFFSETTO:+0100
TZNAME:CET
DTSTART:20261025T010000
END:STANDARD
BEGIN:DAYLIGHT
TZOFFSETFROM:+0100
TZOFFSETTO:+0200
TZNAME:CEST
DTSTART:20270328T010000
END:DAYLIGHT
BEGIN:STANDARD
TZOFFSETFROM:+0200
TZOFFSETTO:+0100
TZNAME:CET
DTSTART:20271031T010000
END:STANDARD
END:VTIMEZONE
BEGIN:VEVENT
DTSTART;TZID=Europe/Paris:20260422T090000
DTEND;TZID=Europe/Paris:20260422T113000
DTSTAMP:20260422T125434
CREATED:20260218T154017Z
LAST-MODIFIED:20260312T084607Z
UID:10000631-1776848400-1776857400@www.maisondeshabitants.fr
SUMMARY:Les mercredis en famille - Atelier Bout'chou
DESCRIPTION:Mercredi 22 avril de 9h à 11h30\, le thème de l’atelier Bout’chou : « manipulation des mains ». Un moment ludique pour développer la motricité fine de votre enfant. \n\nGratuit\nEnfants de 2 à à 5 ans accompagnés d’un adulte\nAdhésion* à la MdH nécessaire\nSur inscription via l’Espace Famille\nPlus d’information au 04 50 49 23 68\n\nChaque mercredi\, venez bouger\, créer et vous amuser en famille à la Maison des Habitants !\nDes ateliers ludiques et variés (manuels\, culinaires\, jeux\, motricité…) vous attendent pour partager des moments complices en famille. \nTous les mercredis en famille\n \n*L’adhésion est valable jusqu’au 31 août 2026 et vous donne accès aux activités\, animations\, stages\,… gratuits ou payants\, proposés par notre structure.
URL:https://www.maisondeshabitants.fr/agenda/les-mercredis-en-famille-atelier-boutchou-3/
LOCATION:La MIEF\, 3 rue du Jura\, Saint-Julien-en-Genevois\, 74160\, France
CATEGORIES:Activités manuelles,Enfants,Famille,Les "ateliers"
ATTACH;FMTTYPE=image/png:https://www.maisondeshabitants.fr/wp-content/uploads/2026/02/Bandeau-site-Mercredis-en-famille-dates-ateliers-22.04-1.png
ORGANIZER;CN="Maison des Habitants":MAILTO:info@maisondeshabitants.fr
GEO:46.1457561;6.0824952
X-APPLE-STRUCTURED-LOCATION;VALUE=URI;X-ADDRESS=La MIEF 3 rue du Jura Saint-Julien-en-Genevois 74160 France;X-APPLE-RADIUS=500;X-TITLE=3 rue du Jura:geo:6.0824952,46.1457561
END:VEVENT
BEGIN:VEVENT
DTSTART;TZID=Europe/Paris:20260422T140000
DTEND;TZID=Europe/Paris:20260422T160000
DTSTAMP:20260422T125434
CREATED:20260218T082239Z
LAST-MODIFIED:20260218T082239Z
UID:10000616-1776866400-1776873600@www.maisondeshabitants.fr
SUMMARY:Proxim'Café\, moment convivial salle Pégase
DESCRIPTION:La Maison des Habitants vous invite à partager un moment d’échange et de rencontre en famille\, en-dehors de ses murs ! \nNous vous convions à venir librement deux mercredis par mois de 14h à 16h\, Salle Pégase ou Salle des Tilleuls. \nProxim’Café sera votre moment privilégié pour tout simplement vous assoir et prendre un café\, un thé\, et surtout rencontrer des familles de votre quartier ou de St-Julien et profiter d’un temps d’échange avec un de nos animateurs ! \nPour tous – accès libre et gratuit  \nCalendrier des Proxim’Café du premier semestre 2026 :\n22/04 Salle Pégase\n29/04 Salle des Tilleuls\n05/05\nSalle Pégase\n20/05 Salle des Tilleuls\n03/06 Salle Pégase\n10/06 Salle des Tilleuls
URL:https://www.maisondeshabitants.fr/agenda/proximcafe-moment-convivial-salle-pegase-7/
LOCATION:Salle Pégase\, Au pied de l'immeuble Pégase\, rue Jean Verne\, dans le quartier du Puy St Martin
CATEGORIES:Enfants,Famille,Près de chez vous,Vivre ensemble
ATTACH;FMTTYPE=image/jpeg:https://www.maisondeshabitants.fr/wp-content/uploads/2025/09/ProximCafe-Pegase.jpg
ORGANIZER;CN="Maison des Habitants":MAILTO:info@maisondeshabitants.fr
END:VEVENT
END:VCALENDAR