BEGIN:VCALENDAR
VERSION:2.0
PRODID:-//Maison des Habitants - MJC Centre Social | St-Julien - ECPv6.15.16//NONSGML v1.0//EN
CALSCALE:GREGORIAN
METHOD:PUBLISH
X-WR-CALNAME:Maison des Habitants - MJC Centre Social | St-Julien
X-ORIGINAL-URL:https://www.maisondeshabitants.fr
X-WR-CALDESC:Évènements pour Maison des Habitants - MJC Centre Social | St-Julien
REFRESH-INTERVAL;VALUE=DURATION:PT1H
X-Robots-Tag:noindex
X-PUBLISHED-TTL:PT1H
BEGIN:VTIMEZONE
TZID:Europe/Paris
BEGIN:DAYLIGHT
TZOFFSETFROM:+0100
TZOFFSETTO:+0200
TZNAME:CEST
DTSTART:20250330T010000
END:DAYLIGHT
BEGIN:STANDARD
TZOFFSETFROM:+0200
TZOFFSETTO:+0100
TZNAME:CET
DTSTART:20251026T010000
END:STANDARD
BEGIN:DAYLIGHT
TZOFFSETFROM:+0100
TZOFFSETTO:+0200
TZNAME:CEST
DTSTART:20260329T010000
END:DAYLIGHT
BEGIN:STANDARD
TZOFFSETFROM:+0200
TZOFFSETTO:+0100
TZNAME:CET
DTSTART:20261025T010000
END:STANDARD
BEGIN:DAYLIGHT
TZOFFSETFROM:+0100
TZOFFSETTO:+0200
TZNAME:CEST
DTSTART:20270328T010000
END:DAYLIGHT
BEGIN:STANDARD
TZOFFSETFROM:+0200
TZOFFSETTO:+0100
TZNAME:CET
DTSTART:20271031T010000
END:STANDARD
END:VTIMEZONE
BEGIN:VEVENT
DTSTART;TZID=Europe/Paris:20260425T140000
DTEND;TZID=Europe/Paris:20260425T170000
DTSTAMP:20260425T013747
CREATED:20260309T093833Z
LAST-MODIFIED:20260312T084614Z
UID:10000696-1777125600-1777136400@www.maisondeshabitants.fr
SUMMARY:Stage de Danse Contemporaine
DESCRIPTION:Samedi 25 avril de 14h à 17h : participez à un stage de Danse Contemporaine !\n\nFranck Berjont\, chorégraphe\, vous propose un stage\, destiné aux + de 14 ans et aux adultes.\nSur inscription : franck.berjont@gmail.com / 06 12 88 69 63\n\nConditions d’accès :\n\nTarif adhérent : 50 € + adhésion* à la Maison des Habitants nécessaire\nÀ l’Arande 24 Grande Rue à St-Julien\n+ d’infos https://thomasbouyssie.wixsite.com/franckberjont\n\n\nÀ vos inscriptions !\n\nPour en savoir plus sur les stages de Franck\n\nVideo stage danse contemporaine\n\n*L’adhésion est valable jusqu’au 31 août 2026 et vous donne accès aux activités\, animations\, stages\,… gratuits ou payants\, proposés par notre structure.
URL:https://www.maisondeshabitants.fr/agenda/stage-de-danse-contemporaine-7/
LOCATION:L’Arande\, 24 Grand Rue\, Saint-Julien-en-Genevois\, 74160\, France
CATEGORIES:Activités corporelles,Culture,Sport
ATTACH;FMTTYPE=image/png:https://www.maisondeshabitants.fr/wp-content/uploads/2026/03/Bandeau-site-UNCHAINED-25-avril.png
ORGANIZER;CN="Maison des Habitants":MAILTO:info@maisondeshabitants.fr
GEO:46.1405005;6.078399
X-APPLE-STRUCTURED-LOCATION;VALUE=URI;X-ADDRESS=L’Arande 24 Grand Rue Saint-Julien-en-Genevois 74160 France;X-APPLE-RADIUS=500;X-TITLE=24 Grand Rue:geo:6.078399,46.1405005
END:VEVENT
BEGIN:VEVENT
DTSTART;TZID=Europe/Paris:20260425T140000
DTEND;TZID=Europe/Paris:20260425T170000
DTSTAMP:20260425T013747
CREATED:20260415T140744Z
LAST-MODIFIED:20260415T141753Z
UID:10000718-1777125600-1777136400@www.maisondeshabitants.fr
SUMMARY:Mois de l'environnement - Confection d'accessoires au carnaval
DESCRIPTION:Atelier dessin et récup au carnaval ! \n14h\, Parvis de la Mairie (Arande en cas de mauvais temps) \nEn collaboration avec La Compagnie des gens d’ici\, venez participer à un atelier créatif pour imaginer et fabriquer des accessoires en matériaux de récupération.\nCes créations seront utilisées lors du final de leur performance théâtrale pendant le carnaval. Un moment convivial pour créer\, partager et contribuer au spectacle ! \n\nConditions d’accès : \n\nOuvert à tous\nPlus d’informations au : 04 50 49 23 68
URL:https://www.maisondeshabitants.fr/agenda/mois-de-lenvironnement-confection-daccessoires-au-carnaval/
LOCATION:Devant la Mairie\, place du générale de Gaulle\, ST JULIEN EN GENEVOIS\, Rhône-Alpes\, 74160
CATEGORIES:Activités manuelles,Développement durable,Vivre ensemble
ATTACH;FMTTYPE=image/png:https://www.maisondeshabitants.fr/wp-content/uploads/2026/04/Bandeau-site-Mois-environnement-Dessins-carnaval.png
END:VEVENT
END:VCALENDAR