BEGIN:VCALENDAR
VERSION:2.0
PRODID:-//Maison des Habitants - MJC Centre Social | St-Julien - ECPv6.15.16//NONSGML v1.0//EN
CALSCALE:GREGORIAN
METHOD:PUBLISH
X-WR-CALNAME:Maison des Habitants - MJC Centre Social | St-Julien
X-ORIGINAL-URL:https://www.maisondeshabitants.fr
X-WR-CALDESC:Évènements pour Maison des Habitants - MJC Centre Social | St-Julien
REFRESH-INTERVAL;VALUE=DURATION:PT1H
X-Robots-Tag:noindex
X-PUBLISHED-TTL:PT1H
BEGIN:VTIMEZONE
TZID:Europe/Paris
BEGIN:DAYLIGHT
TZOFFSETFROM:+0100
TZOFFSETTO:+0200
TZNAME:CEST
DTSTART:20240331T010000
END:DAYLIGHT
BEGIN:STANDARD
TZOFFSETFROM:+0200
TZOFFSETTO:+0100
TZNAME:CET
DTSTART:20241027T010000
END:STANDARD
BEGIN:DAYLIGHT
TZOFFSETFROM:+0100
TZOFFSETTO:+0200
TZNAME:CEST
DTSTART:20250330T010000
END:DAYLIGHT
BEGIN:STANDARD
TZOFFSETFROM:+0200
TZOFFSETTO:+0100
TZNAME:CET
DTSTART:20251026T010000
END:STANDARD
BEGIN:DAYLIGHT
TZOFFSETFROM:+0100
TZOFFSETTO:+0200
TZNAME:CEST
DTSTART:20260329T010000
END:DAYLIGHT
BEGIN:STANDARD
TZOFFSETFROM:+0200
TZOFFSETTO:+0100
TZNAME:CET
DTSTART:20261025T010000
END:STANDARD
END:VTIMEZONE
BEGIN:VEVENT
DTSTART;TZID=Europe/Paris:20250707T080000
DTEND;TZID=Europe/Paris:20251031T170000
DTSTAMP:20260425T025345
CREATED:20250729T132335Z
LAST-MODIFIED:20250908T094938Z
UID:10000208-1751875200-1761930000@www.maisondeshabitants.fr
SUMMARY:Inscriptions aux activités régulières ouvertes !
DESCRIPTION:La reprise de nos activités régulières c’est le 15 septembre ! \nSi vous n’êtes pas déjà inscrit·e\, découvrez quelle activité est faite pour vous cette saison dans notre rubrique « activités »\nSports\, cultures\, loisirs\, activités parents-enfants\,… vous trouverez quelque-chose pour vous enrichir\, défouler\, vous amuser ! \n  \nLes inscriptions sont ouvertes depuis le 7 juillet\, trouvez toutes les informations nécessaires ici. \nPlaquette détaillée de la saison 2025-2026
URL:https://www.maisondeshabitants.fr/agenda/inscriptions-aux-activites-regulieres-ouvertes/
CATEGORIES:Activités corporelles,Activités manuelles,Bien être,Culture,Enfants,Famille,Jeunesse,Maison des habitants,Séniors,Sport
ATTACH;FMTTYPE=image/jpeg:https://www.maisondeshabitants.fr/wp-content/uploads/2025/07/vignette-1600-900-ouverture-saison-25-26_01-scaled.jpg
END:VEVENT
BEGIN:VEVENT
DTSTART;TZID=Europe/Paris:20251020T080000
DTEND;TZID=Europe/Paris:20251031T190000
DTSTAMP:20260425T025345
CREATED:20251009T085212Z
LAST-MODIFIED:20251009T085239Z
UID:10000236-1760947200-1761937200@www.maisondeshabitants.fr
SUMMARY:Les Vacances d'Automne en famille\, programme disponible !
DESCRIPTION:Ateliers\, animations\, boum\, jeux\, il y en a pour tous les âges pour de bons moments en familles… \nRetrouvez notre programme ici
URL:https://www.maisondeshabitants.fr/agenda/les-vacances-dautomne-en-famille-programme-disponible/
CATEGORIES:Activités manuelles,Famille,Jeunesse,Les "ateliers",Parentalité
ATTACH;FMTTYPE=image/png:https://www.maisondeshabitants.fr/wp-content/uploads/2025/10/BAndeau-site-Vacances-automne-2025-1600-x-900-px.png
ORGANIZER;CN="Maison des Habitants":MAILTO:info@maisondeshabitants.fr
END:VEVENT
BEGIN:VEVENT
DTSTART;TZID=Europe/Paris:20251022T090000
DTEND;TZID=Europe/Paris:20251030T170000
DTSTAMP:20260425T025345
CREATED:20251014T131440Z
LAST-MODIFIED:20260127T142325Z
UID:10000237-1761123600-1761843600@www.maisondeshabitants.fr
SUMMARY:Espace Motricité ouvert - Les vacances d'automne en famille
DESCRIPTION:Notre Espace Motricité ouvert aux moins de 5 ans :\nMercredi 22 10h-12h\, jeudi 23 10h-12h\, vendredi 24 10h-12h\, lundi 27 10h-12h et 14h-17h\, mardi 28 10h-12h\, mercredi 29 10h-12h et 14h-18h et jeudi 30 et 14h-18h. \nProfitez-en ! \n\nA la Maison des Habitants\nGratuit\, sans inscription\, dans la limite des places disponibles\nPlus d’informations au 06 16 40 02 42 ou inscriptionsvacs@maisondeshabitants.fr\n\nProgramme des vacances complet
URL:https://www.maisondeshabitants.fr/agenda/espace-motricite-ouvert-les-vacances-dautomne-en-famille/
LOCATION:La MIEF\, 3 rue du Jura\, Saint-Julien-en-Genevois\, 74160\, France
CATEGORIES:Famille,Maison des habitants
ATTACH;FMTTYPE=image/png:https://www.maisondeshabitants.fr/wp-content/uploads/2025/10/Vignette-actus-Vacances-automne-2025-espace-motricite-2.png
ORGANIZER;CN="Maison des Habitants":MAILTO:info@maisondeshabitants.fr
GEO:46.1457561;6.0824952
X-APPLE-STRUCTURED-LOCATION;VALUE=URI;X-ADDRESS=La MIEF 3 rue du Jura Saint-Julien-en-Genevois 74160 France;X-APPLE-RADIUS=500;X-TITLE=3 rue du Jura:geo:6.0824952,46.1457561
END:VEVENT
BEGIN:VEVENT
DTSTART;TZID=Europe/Paris:20251024T140000
DTEND;TZID=Europe/Paris:20251024T170000
DTSTAMP:20260425T025345
CREATED:20251015T083950Z
LAST-MODIFIED:20251024T074142Z
UID:10000244-1761314400-1761325200@www.maisondeshabitants.fr
SUMMARY:Aidons nos animaux -REPLIS A LA MDH - Déambulation dans la ville pour Action Animale
DESCRIPTION:La déambulation de cet après-midi est annulée !\n–   ̀  à la Maison des habitants pour une sensibilisation et des animations sur les animaux\nAidons les animaux ! Rassemblons-nous et défilons pour soutenir l’association Action Animale. \nVendredi 24 octobre de 14h à 17h rdv sur le parvis de la Mairie \n> Pour tous \n> Gratuit\, sans inscription \n> Plus d’informations au 06 16 40 02 42 ou inscriptionsvacs@maisondeshabitants.fr \nProgramme des vacances complet
URL:https://www.maisondeshabitants.fr/agenda/aidons-nos-animaux-deambulation-dans-la-ville-pour-action-animale/
CATEGORIES:Développement durable,Enfants,Famille,Jeunesse,Maison des habitants
ATTACH;FMTTYPE=image/png:https://www.maisondeshabitants.fr/wp-content/uploads/2025/10/Bandeau-site-Vacances-automne-2025-aidons-nos-animaux-2.png
ORGANIZER;CN="Maison des Habitants":MAILTO:info@maisondeshabitants.fr
END:VEVENT
BEGIN:VEVENT
DTSTART;TZID=Europe/Paris:20251024T143000
DTEND;TZID=Europe/Paris:20251024T170000
DTSTAMP:20260425T025345
CREATED:20251015T085543Z
LAST-MODIFIED:20251024T100923Z
UID:10000245-1761316200-1761325200@www.maisondeshabitants.fr
SUMMARY:Annulé ! - Cuisinez en Famille - Apéritif d'Halloween
DESCRIPTION:Atelier Cuisinez en famille « apéritif d’Halloween »\, avec Corinne Calvez\, diététicienne et nutritionniste. \nVendredi 24 octobre de 14h30 à 17h à la Maison des Habitants\, venez en famille vous mettre au fourneau pour préparer un apéritif sur le thème d’Halloween !\nLors de cet atelier\, vous réaliserez des recettes et vous aurez l’occasion de les déguster à l’issu de l’atelier.\nVous serez accompagnés de Corinne Calvez\, diététicienne nutritionniste et cheffe cuisinière passionnée pour cuisiner des recettes simples mais toujours gourmandes et faciles à reproduire à la maison.\n> Enfants de plus de 5 ans – 10€/famille \n> Places limitées \n> Sur inscription via votre Espace Famille \nPlus d’informations au : 06 16 40 02 42 ou inscriptionsvacs@maisondeshabitants.fr
URL:https://www.maisondeshabitants.fr/agenda/cuisinez-en-famille-aperitif-dhalloween/
LOCATION:La MIEF\, 3 rue du Jura\, Saint-Julien-en-Genevois\, 74160\, France
CATEGORIES:Bien être,Enfants,Famille,Les "ateliers",Parentalité
ATTACH;FMTTYPE=image/png:https://www.maisondeshabitants.fr/wp-content/uploads/2025/10/Bandeau-site-Vacances-automne-2025-Cuisinez-en-famille-2.png
ORGANIZER;CN="Maison des Habitants":MAILTO:info@maisondeshabitants.fr
GEO:46.1457561;6.0824952
X-APPLE-STRUCTURED-LOCATION;VALUE=URI;X-ADDRESS=La MIEF 3 rue du Jura Saint-Julien-en-Genevois 74160 France;X-APPLE-RADIUS=500;X-TITLE=3 rue du Jura:geo:6.0824952,46.1457561
END:VEVENT
BEGIN:VEVENT
DTSTART;TZID=Europe/Paris:20251027T093000
DTEND;TZID=Europe/Paris:20251124T110000
DTSTAMP:20260425T025345
CREATED:20250929T135555Z
LAST-MODIFIED:20251103T150047Z
UID:10000231-1761557400-1763982000@www.maisondeshabitants.fr
SUMMARY:Cycle reporté\, dates à venir - Cycle massage bébé
DESCRIPTION:Cycle “Massage bébé” avec Aurélie Pérot\, accompagnante parentale “Jusqu’à la Lune et au-delà”. \nAurélie Pérot vous propose de participer à un cycle de massage pour votre bébé. A travers le massage\, le bébé retrouve les sensations qu’il a connues dans le ventre de sa mère. C’est avant tout un moment de partage\, de plaisir et de bien-être avec son parent.\nPassez un moment convivial\, rencontrez d’autres parents\, créez du lien\, tout en apprenant les techniques de massage progressivement\, avec toutes les infos et les réponses à vos questions. \nLe cycle est composé de trois ateliers les lundis 27 octobre\, 10 et 24 novembre\, de 9h30 à 11h à la Maison des Habitants.\nCycle reporté en 2026\, dates à venir \nConditions d’accès : \n\nA destination des enfants de 1 à 9 mois et de leurs parents\nPlaces limitées\nObligation de participer à l’ensemble des ateliers\n30€/famille pour le cycle + Adhésion à la Maison des Habitants obligatoire\nInscription auprès de l’accueil de la Maison des habitants ou via l’Espace Famille\nPlus d’informations au : 04 50 49 23 68\n\nVous êtes aussi intéressé·e par la réflexologie ? Profitez des Ateliers Réflexologie Bébé Emotionnelle les 11 octobre\, 17 novembre et 8 décembre pour les enfants de 1 mois à 3 ans. \n 
URL:https://www.maisondeshabitants.fr/agenda/cycle-massage-bebe-2/
LOCATION:La MIEF\, 3 rue du Jura\, Saint-Julien-en-Genevois\, 74160\, France
CATEGORIES:Famille,Parentalité
ATTACH;FMTTYPE=image/png:https://www.maisondeshabitants.fr/wp-content/uploads/2025/09/Bandeau-cycle-massage-bebe-oct-nov-2025-2-1600-x-900-px.png
ORGANIZER;CN="Maison des Habitants":MAILTO:info@maisondeshabitants.fr
GEO:46.1457561;6.0824952
X-APPLE-STRUCTURED-LOCATION;VALUE=URI;X-ADDRESS=La MIEF 3 rue du Jura Saint-Julien-en-Genevois 74160 France;X-APPLE-RADIUS=500;X-TITLE=3 rue du Jura:geo:6.0824952,46.1457561
END:VEVENT
BEGIN:VEVENT
DTSTART;TZID=Europe/Paris:20251027T140000
DTEND;TZID=Europe/Paris:20251027T170000
DTSTAMP:20260425T025345
CREATED:20251024T140958Z
LAST-MODIFIED:20251024T140958Z
UID:10000253-1761573600-1761584400@www.maisondeshabitants.fr
SUMMARY:Atelier origami d'Halloween
DESCRIPTION:Tu aimes l’origami ? On va te montrer comment en créer sur le thème d’Halloween ! \nLundi 27 octobre\, 14h-17h à la Maison des Habitants \n> Pour tous \n> Gratuit\, sans inscription\, dans la limite des places disponibles \n> Plus d’informations au 06 16 40 02 42 ou inscriptionsvacs@maisondeshabitants.fr \nProgramme des vacances complet
URL:https://www.maisondeshabitants.fr/agenda/atelier-origami-dhalloween/
LOCATION:La MIEF\, 3 rue du Jura\, Saint-Julien-en-Genevois\, 74160\, France
CATEGORIES:Activités manuelles,Enfants,Famille,Jeunesse,Les "ateliers"
ATTACH;FMTTYPE=image/png:https://www.maisondeshabitants.fr/wp-content/uploads/2025/10/Bandeau-site-Vacances-automne-2025-origami.png
ORGANIZER;CN="Maison des Habitants":MAILTO:info@maisondeshabitants.fr
GEO:46.1457561;6.0824952
X-APPLE-STRUCTURED-LOCATION;VALUE=URI;X-ADDRESS=La MIEF 3 rue du Jura Saint-Julien-en-Genevois 74160 France;X-APPLE-RADIUS=500;X-TITLE=3 rue du Jura:geo:6.0824952,46.1457561
END:VEVENT
BEGIN:VEVENT
DTSTART;TZID=Europe/Paris:20251028T140000
DTEND;TZID=Europe/Paris:20251028T170000
DTSTAMP:20260425T025345
CREATED:20251017T133056Z
LAST-MODIFIED:20251024T145159Z
UID:10000247-1761660000-1761670800@www.maisondeshabitants.fr
SUMMARY:Atelier "Fabrique ton déguisement d'Halloween"
DESCRIPTION:Retrouve-nous pour préparer ton déguisement d’Halloween !\nTu pourras ensuite fabriquer ta lanterne d’Halloween mercredi 29 et aussi ton sac jeudi 30 et tu seras totalement prêt pour notre boum du vendredi 31 et pour faire un petit tour chez tes voisins ! \nMardi 28 octobre\, 14h-17h à la Maison des Habitants \n> Enfants accompagnés d’un adulte \n> Gratuit\, sans inscription\, dans la limite des places disponibles \n> Plus d’informations au 06 16 40 02 42 ou inscriptionsvacs@maisondeshabitants.fr \nProgramme des vacances complet
URL:https://www.maisondeshabitants.fr/agenda/atelier-fabrique-ton-deguisement-dhalloween/
LOCATION:La MIEF\, 3 rue du Jura\, Saint-Julien-en-Genevois\, 74160\, France
CATEGORIES:Activités manuelles,Enfants,Famille,Jeunesse
ATTACH;FMTTYPE=image/png:https://www.maisondeshabitants.fr/wp-content/uploads/2025/10/Bandeau-site-Vacances-automne-2025-Deguisement-Halloween.png
ORGANIZER;CN="Maison des Habitants":MAILTO:info@maisondeshabitants.fr
GEO:46.1457561;6.0824952
X-APPLE-STRUCTURED-LOCATION;VALUE=URI;X-ADDRESS=La MIEF 3 rue du Jura Saint-Julien-en-Genevois 74160 France;X-APPLE-RADIUS=500;X-TITLE=3 rue du Jura:geo:6.0824952,46.1457561
END:VEVENT
BEGIN:VEVENT
DTSTART;TZID=Europe/Paris:20251029T140000
DTEND;TZID=Europe/Paris:20251029T170000
DTSTAMP:20260425T025345
CREATED:20251024T145038Z
LAST-MODIFIED:20251024T145038Z
UID:10000254-1761746400-1761757200@www.maisondeshabitants.fr
SUMMARY:Atelier citrouille - Découpage et zéro déchet
DESCRIPTION:Viens créer ta lanterne pour Halloween ! \nTu pourras la découper et on te montrera comment ne pas faire de déchets.\nAvec le déguisement créé mardi après-midi et ton sac que tu pourras ensuite fabriquer jeudi 30 tu seras totalement prêt pour notre boum du vendredi 31 et pour faire un petit tour chez tes voisins ! \nMercredi 29\, 14h-17h à la Maison des Habitants \n> Pour tous \n> Gratuit\, sans inscription\, dans la limite des places disponibles \n> Plus d’informations au 06 16 40 02 42 ou inscriptionsvacs@maisondeshabitants.fr \nProgramme des vacances complet
URL:https://www.maisondeshabitants.fr/agenda/atelier-citrouille-decoupage-et-zero-dechet/
LOCATION:La MIEF\, 3 rue du Jura\, Saint-Julien-en-Genevois\, 74160\, France
CATEGORIES:Activités manuelles,Développement durable,Enfants,Famille,Jeunesse,Les "ateliers"
ATTACH;FMTTYPE=image/png:https://www.maisondeshabitants.fr/wp-content/uploads/2025/10/Bandeau-site-Vacances-automne-2025-lanterne-halloween.png
ORGANIZER;CN="Maison des Habitants":MAILTO:info@maisondeshabitants.fr
GEO:46.1457561;6.0824952
X-APPLE-STRUCTURED-LOCATION;VALUE=URI;X-ADDRESS=La MIEF 3 rue du Jura Saint-Julien-en-Genevois 74160 France;X-APPLE-RADIUS=500;X-TITLE=3 rue du Jura:geo:6.0824952,46.1457561
END:VEVENT
BEGIN:VEVENT
DTSTART;TZID=Europe/Paris:20251030T100000
DTEND;TZID=Europe/Paris:20251030T120000
DTSTAMP:20260425T025345
CREATED:20251017T134215Z
LAST-MODIFIED:20251030T094433Z
UID:10000248-1761818400-1761825600@www.maisondeshabitants.fr
SUMMARY:Atelier "Fais ton sac pour Halloween"
DESCRIPTION:Fabrique ton sac pour Halloween !\nBricolage avec des boîtes recyclées avec l’association Créations Solidaires.\nAvec ton déguisement et ton sac tu seras totalement prêt pour notre boum du vendredi 31 et pour faire un petit tour chez tes voisins ! \nJeudi 30 octobre\, 10h-12h à la Maison des Habitants \n> Dès 3 ans\, enfants accompagnés d’un adulte \n> Gratuit\, sur inscription \n> Plus d’informations au 06 16 40 02 42 ou inscriptionsvacs@maisondeshabitants.fr \nProgramme des vacances complet
URL:https://www.maisondeshabitants.fr/agenda/atelier-fais-ton-sac-pour-halloween/
LOCATION:La MIEF\, 3 rue du Jura\, Saint-Julien-en-Genevois\, 74160\, France
CATEGORIES:Activités manuelles,Enfants,Famille,Les "ateliers"
ATTACH;FMTTYPE=image/png:https://www.maisondeshabitants.fr/wp-content/uploads/2025/10/Bandeau-site-Vacances-automne-2025-Sac-Halloween.png
ORGANIZER;CN="Maison des Habitants":MAILTO:info@maisondeshabitants.fr
GEO:46.1457561;6.0824952
X-APPLE-STRUCTURED-LOCATION;VALUE=URI;X-ADDRESS=La MIEF 3 rue du Jura Saint-Julien-en-Genevois 74160 France;X-APPLE-RADIUS=500;X-TITLE=3 rue du Jura:geo:6.0824952,46.1457561
END:VEVENT
BEGIN:VEVENT
DTSTART;TZID=Europe/Paris:20251030T140000
DTEND;TZID=Europe/Paris:20251030T170000
DTSTAMP:20260425T025345
CREATED:20251024T152338Z
LAST-MODIFIED:20251024T152338Z
UID:10000255-1761832800-1761843600@www.maisondeshabitants.fr
SUMMARY:Atelier Fresque d'Automne en peinture
DESCRIPTION:Atelier Fresque d’Automne en peinture\nVenez en famille de cet atelier créatif ! \nJeudi 30\, 14h-17h à la Maison des Habitants \n> Pour tous \n> Gratuit\, sans inscription\, dans la limite des places disponibles \n> Plus d’informations au 06 16 40 02 42 ou inscriptionsvacs@maisondeshabitants.fr \nProgramme des vacances complet
URL:https://www.maisondeshabitants.fr/agenda/atelier-fresque-dautomne-en-peinture/
LOCATION:La MIEF\, 3 rue du Jura\, Saint-Julien-en-Genevois\, 74160\, France
CATEGORIES:Activités manuelles,Enfants,Famille,Jeunesse,Les "ateliers"
ATTACH;FMTTYPE=image/png:https://www.maisondeshabitants.fr/wp-content/uploads/2025/10/Bandeau-site-Vacances-automne-2025-Fresque-automne.png
ORGANIZER;CN="Maison des Habitants":MAILTO:info@maisondeshabitants.fr
GEO:46.1457561;6.0824952
X-APPLE-STRUCTURED-LOCATION;VALUE=URI;X-ADDRESS=La MIEF 3 rue du Jura Saint-Julien-en-Genevois 74160 France;X-APPLE-RADIUS=500;X-TITLE=3 rue du Jura:geo:6.0824952,46.1457561
END:VEVENT
BEGIN:VEVENT
DTSTART;TZID=Europe/Paris:20251031T153000
DTEND;TZID=Europe/Paris:20251031T190000
DTSTAMP:20260425T025345
CREATED:20251017T134600Z
LAST-MODIFIED:20251030T093304Z
UID:10000249-1761924600-1761937200@www.maisondeshabitants.fr
SUMMARY:Boum d'Halloween
DESCRIPTION:Enfile ton déguisement et viens t’amuser et danser à la Maison des Habitants ! \nVendredi 31 octobre\, 15h30-17h ou 17h30-19h \n> Pour tous \n> Gratuit\, sur inscription\, un créneau au choix \n> Plus d’informations au 06 16 40 02 42 ou inscriptionsvacs@maisondeshabitants.fr \nProgramme des vacances complet
URL:https://www.maisondeshabitants.fr/agenda/boum-dhalloween/
LOCATION:La MIEF\, 3 rue du Jura\, Saint-Julien-en-Genevois\, 74160\, France
CATEGORIES:Enfants,Famille,Jeunesse,Maison des habitants
ATTACH;FMTTYPE=image/png:https://www.maisondeshabitants.fr/wp-content/uploads/2025/10/Bandeau-site-Vacances-automne-2025-Boum-Halloween.png
ORGANIZER;CN="Maison des Habitants":MAILTO:info@maisondeshabitants.fr
GEO:46.1457561;6.0824952
X-APPLE-STRUCTURED-LOCATION;VALUE=URI;X-ADDRESS=La MIEF 3 rue du Jura Saint-Julien-en-Genevois 74160 France;X-APPLE-RADIUS=500;X-TITLE=3 rue du Jura:geo:6.0824952,46.1457561
END:VEVENT
END:VCALENDAR