BEGIN:VCALENDAR
VERSION:2.0
PRODID:-//Maison des Habitants - MJC Centre Social | St-Julien - ECPv6.15.16//NONSGML v1.0//EN
CALSCALE:GREGORIAN
METHOD:PUBLISH
X-ORIGINAL-URL:https://www.maisondeshabitants.fr
X-WR-CALDESC:Évènements pour Maison des Habitants - MJC Centre Social | St-Julien
REFRESH-INTERVAL;VALUE=DURATION:PT1H
X-Robots-Tag:noindex
X-PUBLISHED-TTL:PT1H
BEGIN:VTIMEZONE
TZID:Europe/Paris
BEGIN:DAYLIGHT
TZOFFSETFROM:+0100
TZOFFSETTO:+0200
TZNAME:CEST
DTSTART:20250330T010000
END:DAYLIGHT
BEGIN:STANDARD
TZOFFSETFROM:+0200
TZOFFSETTO:+0100
TZNAME:CET
DTSTART:20251026T010000
END:STANDARD
BEGIN:DAYLIGHT
TZOFFSETFROM:+0100
TZOFFSETTO:+0200
TZNAME:CEST
DTSTART:20260329T010000
END:DAYLIGHT
BEGIN:STANDARD
TZOFFSETFROM:+0200
TZOFFSETTO:+0100
TZNAME:CET
DTSTART:20261025T010000
END:STANDARD
BEGIN:DAYLIGHT
TZOFFSETFROM:+0100
TZOFFSETTO:+0200
TZNAME:CEST
DTSTART:20270328T010000
END:DAYLIGHT
BEGIN:STANDARD
TZOFFSETFROM:+0200
TZOFFSETTO:+0100
TZNAME:CET
DTSTART:20271031T010000
END:STANDARD
END:VTIMEZONE
BEGIN:VEVENT
DTSTART;TZID=Europe/Paris:20260527T100000
DTEND;TZID=Europe/Paris:20260527T103000
DTSTAMP:20260424T174619
CREATED:20260330T150250Z
LAST-MODIFIED:20260330T150250Z
UID:10000716-1779876000-1779877800@www.maisondeshabitants.fr
SUMMARY:Cuisinez en famille - repas équilibrés
DESCRIPTION:Atelier Cuisinez en famille\, avec Corinne Calvez\, diététicienne et nutritionniste.\nLes mercredis 6\, 13\, 20 et 27 mai\, de 10h à 11h30\, à la Maison des Habitants\, venez partager un moment convivial en famille autour de la cuisine ! \nAu cours de ces ateliers\, vous préparerez différentes recettes que vous aurez ensuite le plaisir de déguster ensemble à la fin de la séance.\nVous serez accompagnés par Corinne Calvez\, diététicienne nutritionniste et cheffe cuisinière passionnée\, qui vous guidera dans la réalisation de recettes simples\, gourmandes et faciles à refaire à la maison. \nAu programme : \n\n6 mai : Petit-déjeuner équilibré\n13 mai : Goûter équilibré\n20 mai : Repas équilibrés\nCe mercredi 27 mai : Repas équilibrés\n\nConditions d’accès : \n\nEnfant de 5 à 10 ans\, accompagnés d’un parent\nPlaces limitées\n25€/famille/atelier.  Adhésion* à la MdH nécessaire\nInscription auprès de l’accueil de la Maison des habitants ou via l’Espace Famille\nPlus d’informations au : 04 50 49 23 68\n\n*L’adhésion est valable jusqu’au 31 août 2026 et vous donne accès aux activités\, animations\, stage\,… gratuits ou payants\, proposés par notre structure.
URL:https://www.maisondeshabitants.fr/agenda/cuisinez-en-famille-repas-equilibres/
LOCATION:La MIEF\, 3 rue du Jura\, Saint-Julien-en-Genevois\, 74160\, France
CATEGORIES:Activités manuelles,Famille,Les "ateliers",Parentalité
ATTACH;FMTTYPE=image/png:https://www.maisondeshabitants.fr/wp-content/uploads/2026/03/Bandeau-site-cuisinez-en-famille-1600-x-900-px.png
ORGANIZER;CN="Maison des Habitants":MAILTO:info@maisondeshabitants.fr
GEO:46.1457561;6.0824952
X-APPLE-STRUCTURED-LOCATION;VALUE=URI;X-ADDRESS=La MIEF 3 rue du Jura Saint-Julien-en-Genevois 74160 France;X-APPLE-RADIUS=500;X-TITLE=3 rue du Jura:geo:6.0824952,46.1457561
END:VEVENT
BEGIN:VEVENT
DTSTART;TZID=Europe/Paris:20260530T100000
DTEND;TZID=Europe/Paris:20260530T120000
DTSTAMP:20260424T174619
CREATED:20260423T145038Z
LAST-MODIFIED:20260423T145459Z
UID:10000729-1780135200-1780142400@www.maisondeshabitants.fr
SUMMARY:Tom le Koala - Atelier lecture et illustration
DESCRIPTION:Participez à ce cycle de 3 ateliers de 2 heures\, ludiques et créatifs\, pensés pour les enfants et leurs parents. Avec Amandine Loussingui. \nPremière partie\, samedi 30 mai : lecture du conte “Le Voyage de Tom le Koala”.\n“Tom est un Koala un peu timide qui vit paisiblement entouré de sa famille et de ses amis. Mais un jour\, il n’y a plus de feuilles d’eucalyptus autour de son village… Alors pour trouver sa nourriture\, Tom va devoir voyager jusqu’au coeur de la forêt Mouti et vivre des aventures incroyables.” \nDeuxième partie\, samedi 6 juin : jeu de questions autour du livre puis quizz sur le Koala. Découverte de la nature et des animaux vivant autour de cet animal\, de la géographie\, des valeurs d’entraide\, d’amitié… au fil des réactions des enfants. \nTroisième partie\, samedi 13 juin : les enfants dessinent le koala ou un autre animal de l’histoire\, selon son envie. Chacun sera accompagné pour découvrir comment tracer des lignes simples et apprendre à dessiner et mettre en couleur des animaux. \nAteliers de 10h à 12h à la Maison des Habitants \nConditions d’accès : \n\nEnfants de 3 à 8 ans avec un parent\nPlaces limitées\nAdhésion* à la MdH nécessaire\nInscription de tous les participants au cycle complet sur l’Espace Famille* ou auprès de notre accueil\nPlus d’informations au 04 50 49 23 68 ou info@maisondeshabitants.fr\n\n*L’adhésion est valable jusqu’au 31 août 2026 et vous donne accès aux activités\, animations\, stage\,… gratuits ou payants\, proposés par notre structure.
URL:https://www.maisondeshabitants.fr/agenda/tom-le-koala-atelier-lecture-et-illustration/2026-05-30/
LOCATION:La MIEF\, 3 rue du Jura\, Saint-Julien-en-Genevois\, 74160\, France
CATEGORIES:Activités manuelles,Culture,Enfants,Famille,Les "ateliers"
ATTACH;FMTTYPE=image/png:https://www.maisondeshabitants.fr/wp-content/uploads/2026/04/Bandeau-site-Tom-Koala-Mai-2026.png
ORGANIZER;CN="Maison des Habitants":MAILTO:info@maisondeshabitants.fr
GEO:46.1457561;6.0824952
X-APPLE-STRUCTURED-LOCATION;VALUE=URI;X-ADDRESS=La MIEF 3 rue du Jura Saint-Julien-en-Genevois 74160 France;X-APPLE-RADIUS=500;X-TITLE=3 rue du Jura:geo:6.0824952,46.1457561
END:VEVENT
BEGIN:VEVENT
DTSTART;TZID=Europe/Paris:20260603T080000
DTEND;TZID=Europe/Paris:20260603T170000
DTSTAMP:20260424T174619
CREATED:20250925T085530Z
LAST-MODIFIED:20260216T100656Z
UID:10000573-1780473600-1780506000@www.maisondeshabitants.fr
SUMMARY:Espace de motricité pour les 0-5 ans
DESCRIPTION:Un mercredi par mois\, l’Espace motricité est à votre disposition ! \nLa Maison des Habitants vous propose un espace de motricité dédié aux tout-petits de 0 à 5 ans\, qui leur permettra de bouger\, sauter\, jouer ensemble\, de s’exprimer grâce à leur corps. Nous mettons à leur disposition des éléments imaginés par des professionnels de l’enfance\, dont ils profiteront\, autant qu’ils le souhaitent\, en toute sécurité. \nVenez partager un bon moment avec vos enfants :\nLes mercredis 01/10 – 05/11- 03/12 – 07/01 – 04/02 – 04/03 – 01/04 – 06/05 – 03/06  de 9h30 à 12h et de 14h à 17h \nConditions d’accès : \n\nA destination des enfants jusqu’à 5 ans et de leurs parents\nGratuit\nPlaces limitées\, sans inscription\nPlus d’informations au : 04 50 49 23 68\n\n 
URL:https://www.maisondeshabitants.fr/agenda/espace-de-motricite-pour-les-0-5-ans/2026-06-03/
LOCATION:La MIEF\, 3 rue du Jura\, Saint-Julien-en-Genevois\, 74160\, France
CATEGORIES:Activités corporelles,Enfants,Famille,Parentalité
ATTACH;FMTTYPE=image/jpeg:https://www.maisondeshabitants.fr/wp-content/uploads/2025/09/Bandeau-site-Espace-motricite-OK-1600-x-900-px.jpg
ORGANIZER;CN="Maison des Habitants":MAILTO:info@maisondeshabitants.fr
GEO:46.1457561;6.0824952
X-APPLE-STRUCTURED-LOCATION;VALUE=URI;X-ADDRESS=La MIEF 3 rue du Jura Saint-Julien-en-Genevois 74160 France;X-APPLE-RADIUS=500;X-TITLE=3 rue du Jura:geo:6.0824952,46.1457561
END:VEVENT
BEGIN:VEVENT
DTSTART;TZID=Europe/Paris:20260603T140000
DTEND;TZID=Europe/Paris:20260603T160000
DTSTAMP:20260424T174619
CREATED:20260218T082546Z
LAST-MODIFIED:20260218T082546Z
UID:10000620-1780495200-1780502400@www.maisondeshabitants.fr
SUMMARY:Proxim'Café\, moment convivial salle Pégase
DESCRIPTION:La Maison des Habitants vous invite à partager un moment d’échange et de rencontre en famille\, en-dehors de ses murs ! \nNous vous convions à venir librement deux mercredis par mois de 14h à 16h\, Salle Pégase ou Salle des Tilleuls. \nProxim’Café sera votre moment privilégié pour tout simplement vous assoir et prendre un café\, un thé\, et surtout rencontrer des familles de votre quartier ou de St-Julien et profiter d’un temps d’échange avec un de nos animateurs ! \nPour tous – accès libre et gratuit  \nCalendrier des Proxim’Café du premier semestre 2026 :\n03/06 Salle Pégase\n10/06 Salle des Tilleuls
URL:https://www.maisondeshabitants.fr/agenda/proximcafe-moment-convivial-salle-pegase-9/
LOCATION:Salle Pégase\, Au pied de l'immeuble Pégase\, rue Jean Verne\, dans le quartier du Puy St Martin
CATEGORIES:Enfants,Famille,Près de chez vous,Vivre ensemble
ATTACH;FMTTYPE=image/jpeg:https://www.maisondeshabitants.fr/wp-content/uploads/2025/09/ProximCafe-Pegase.jpg
ORGANIZER;CN="Maison des Habitants":MAILTO:info@maisondeshabitants.fr
END:VEVENT
BEGIN:VEVENT
DTSTART;TZID=Europe/Paris:20260606T100000
DTEND;TZID=Europe/Paris:20260606T120000
DTSTAMP:20260424T174619
CREATED:20260423T145038Z
LAST-MODIFIED:20260423T145459Z
UID:10000730-1780740000-1780747200@www.maisondeshabitants.fr
SUMMARY:Tom le Koala - Atelier lecture et illustration
DESCRIPTION:Participez à ce cycle de 3 ateliers de 2 heures\, ludiques et créatifs\, pensés pour les enfants et leurs parents. Avec Amandine Loussingui. \nPremière partie\, samedi 30 mai : lecture du conte “Le Voyage de Tom le Koala”.\n“Tom est un Koala un peu timide qui vit paisiblement entouré de sa famille et de ses amis. Mais un jour\, il n’y a plus de feuilles d’eucalyptus autour de son village… Alors pour trouver sa nourriture\, Tom va devoir voyager jusqu’au coeur de la forêt Mouti et vivre des aventures incroyables.” \nDeuxième partie\, samedi 6 juin : jeu de questions autour du livre puis quizz sur le Koala. Découverte de la nature et des animaux vivant autour de cet animal\, de la géographie\, des valeurs d’entraide\, d’amitié… au fil des réactions des enfants. \nTroisième partie\, samedi 13 juin : les enfants dessinent le koala ou un autre animal de l’histoire\, selon son envie. Chacun sera accompagné pour découvrir comment tracer des lignes simples et apprendre à dessiner et mettre en couleur des animaux. \nAteliers de 10h à 12h à la Maison des Habitants \nConditions d’accès : \n\nEnfants de 3 à 8 ans avec un parent\nPlaces limitées\nAdhésion* à la MdH nécessaire\nInscription de tous les participants au cycle complet sur l’Espace Famille* ou auprès de notre accueil\nPlus d’informations au 04 50 49 23 68 ou info@maisondeshabitants.fr\n\n*L’adhésion est valable jusqu’au 31 août 2026 et vous donne accès aux activités\, animations\, stage\,… gratuits ou payants\, proposés par notre structure.
URL:https://www.maisondeshabitants.fr/agenda/tom-le-koala-atelier-lecture-et-illustration/2026-06-06/
LOCATION:La MIEF\, 3 rue du Jura\, Saint-Julien-en-Genevois\, 74160\, France
CATEGORIES:Activités manuelles,Culture,Enfants,Famille,Les "ateliers"
ATTACH;FMTTYPE=image/png:https://www.maisondeshabitants.fr/wp-content/uploads/2026/04/Bandeau-site-Tom-Koala-Mai-2026.png
ORGANIZER;CN="Maison des Habitants":MAILTO:info@maisondeshabitants.fr
GEO:46.1457561;6.0824952
X-APPLE-STRUCTURED-LOCATION;VALUE=URI;X-ADDRESS=La MIEF 3 rue du Jura Saint-Julien-en-Genevois 74160 France;X-APPLE-RADIUS=500;X-TITLE=3 rue du Jura:geo:6.0824952,46.1457561
END:VEVENT
BEGIN:VEVENT
DTSTART;TZID=Europe/Paris:20260610T140000
DTEND;TZID=Europe/Paris:20260610T160000
DTSTAMP:20260424T174619
CREATED:20260218T082623Z
LAST-MODIFIED:20260218T082623Z
UID:10000621-1781100000-1781107200@www.maisondeshabitants.fr
SUMMARY:Proxim'Café\, moment convivial salle des Tilleuls
DESCRIPTION:La Maison des Habitants vous invite à partager un moment d’échange et de rencontre en famille\, en-dehors de ses murs ! \nNous vous convions à venir librement deux mercredis par mois de 14h à 16h\, Salle Pégase ou Salle des Tilleuls. \nProxim’Café sera votre moment privilégié pour tout simplement vous assoir et prendre un café\, un thé\, et surtout rencontrer des familles de votre quartier ou de St-Julien et profiter d’un temps d’échange avec un de nos animateurs ! \nPour tous – accès libre et gratuit 
URL:https://www.maisondeshabitants.fr/agenda/proximcafe-moment-convivial-salle-des-tilleuls-9/
LOCATION:Salle des Tilleuls\, 35 route de Thairy\, ST JULIEN EN GENEVOIS\, 74160\, France
CATEGORIES:Enfants,Famille,Près de chez vous,Vivre ensemble
ATTACH;FMTTYPE=image/jpeg:https://www.maisondeshabitants.fr/wp-content/uploads/2025/09/Proximcafe-Tilleuls.jpg
ORGANIZER;CN="Maison des Habitants":MAILTO:info@maisondeshabitants.fr
GEO:46.1397306;6.0686303
X-APPLE-STRUCTURED-LOCATION;VALUE=URI;X-ADDRESS=Salle des Tilleuls 35 route de Thairy ST JULIEN EN GENEVOIS 74160 France;X-APPLE-RADIUS=500;X-TITLE=35 route de Thairy:geo:6.0686303,46.1397306
END:VEVENT
BEGIN:VEVENT
DTSTART;TZID=Europe/Paris:20260613T100000
DTEND;TZID=Europe/Paris:20260613T120000
DTSTAMP:20260424T174619
CREATED:20260423T145038Z
LAST-MODIFIED:20260423T145459Z
UID:10000731-1781344800-1781352000@www.maisondeshabitants.fr
SUMMARY:Tom le Koala - Atelier lecture et illustration
DESCRIPTION:Participez à ce cycle de 3 ateliers de 2 heures\, ludiques et créatifs\, pensés pour les enfants et leurs parents. Avec Amandine Loussingui. \nPremière partie\, samedi 30 mai : lecture du conte “Le Voyage de Tom le Koala”.\n“Tom est un Koala un peu timide qui vit paisiblement entouré de sa famille et de ses amis. Mais un jour\, il n’y a plus de feuilles d’eucalyptus autour de son village… Alors pour trouver sa nourriture\, Tom va devoir voyager jusqu’au coeur de la forêt Mouti et vivre des aventures incroyables.” \nDeuxième partie\, samedi 6 juin : jeu de questions autour du livre puis quizz sur le Koala. Découverte de la nature et des animaux vivant autour de cet animal\, de la géographie\, des valeurs d’entraide\, d’amitié… au fil des réactions des enfants. \nTroisième partie\, samedi 13 juin : les enfants dessinent le koala ou un autre animal de l’histoire\, selon son envie. Chacun sera accompagné pour découvrir comment tracer des lignes simples et apprendre à dessiner et mettre en couleur des animaux. \nAteliers de 10h à 12h à la Maison des Habitants \nConditions d’accès : \n\nEnfants de 3 à 8 ans avec un parent\nPlaces limitées\nAdhésion* à la MdH nécessaire\nInscription de tous les participants au cycle complet sur l’Espace Famille* ou auprès de notre accueil\nPlus d’informations au 04 50 49 23 68 ou info@maisondeshabitants.fr\n\n*L’adhésion est valable jusqu’au 31 août 2026 et vous donne accès aux activités\, animations\, stage\,… gratuits ou payants\, proposés par notre structure.
URL:https://www.maisondeshabitants.fr/agenda/tom-le-koala-atelier-lecture-et-illustration/2026-06-13/
LOCATION:La MIEF\, 3 rue du Jura\, Saint-Julien-en-Genevois\, 74160\, France
CATEGORIES:Activités manuelles,Culture,Enfants,Famille,Les "ateliers"
ATTACH;FMTTYPE=image/png:https://www.maisondeshabitants.fr/wp-content/uploads/2026/04/Bandeau-site-Tom-Koala-Mai-2026.png
ORGANIZER;CN="Maison des Habitants":MAILTO:info@maisondeshabitants.fr
GEO:46.1457561;6.0824952
X-APPLE-STRUCTURED-LOCATION;VALUE=URI;X-ADDRESS=La MIEF 3 rue du Jura Saint-Julien-en-Genevois 74160 France;X-APPLE-RADIUS=500;X-TITLE=3 rue du Jura:geo:6.0824952,46.1457561
END:VEVENT
END:VCALENDAR