BEGIN:VCALENDAR
VERSION:2.0
PRODID:-//Maison des Habitants - MJC Centre Social | St-Julien - ECPv6.15.16//NONSGML v1.0//EN
CALSCALE:GREGORIAN
METHOD:PUBLISH
X-WR-CALNAME:Maison des Habitants - MJC Centre Social | St-Julien
X-ORIGINAL-URL:https://www.maisondeshabitants.fr
X-WR-CALDESC:Évènements pour Maison des Habitants - MJC Centre Social | St-Julien
REFRESH-INTERVAL;VALUE=DURATION:PT1H
X-Robots-Tag:noindex
X-PUBLISHED-TTL:PT1H
BEGIN:VTIMEZONE
TZID:Europe/Paris
BEGIN:DAYLIGHT
TZOFFSETFROM:+0100
TZOFFSETTO:+0200
TZNAME:CEST
DTSTART:20250330T010000
END:DAYLIGHT
BEGIN:STANDARD
TZOFFSETFROM:+0200
TZOFFSETTO:+0100
TZNAME:CET
DTSTART:20251026T010000
END:STANDARD
BEGIN:DAYLIGHT
TZOFFSETFROM:+0100
TZOFFSETTO:+0200
TZNAME:CEST
DTSTART:20260329T010000
END:DAYLIGHT
BEGIN:STANDARD
TZOFFSETFROM:+0200
TZOFFSETTO:+0100
TZNAME:CET
DTSTART:20261025T010000
END:STANDARD
BEGIN:DAYLIGHT
TZOFFSETFROM:+0100
TZOFFSETTO:+0200
TZNAME:CEST
DTSTART:20270328T010000
END:DAYLIGHT
BEGIN:STANDARD
TZOFFSETFROM:+0200
TZOFFSETTO:+0100
TZNAME:CET
DTSTART:20271031T010000
END:STANDARD
END:VTIMEZONE
BEGIN:VEVENT
DTSTART;TZID=Europe/Paris:20260304T080000
DTEND;TZID=Europe/Paris:20260304T170000
DTSTAMP:20260424T030535
CREATED:20250925T085530Z
LAST-MODIFIED:20260216T100656Z
UID:10000570-1772611200-1772643600@www.maisondeshabitants.fr
SUMMARY:Espace de motricité pour les 0-5 ans
DESCRIPTION:Un mercredi par mois\, l’Espace motricité est à votre disposition ! \nLa Maison des Habitants vous propose un espace de motricité dédié aux tout-petits de 0 à 5 ans\, qui leur permettra de bouger\, sauter\, jouer ensemble\, de s’exprimer grâce à leur corps. Nous mettons à leur disposition des éléments imaginés par des professionnels de l’enfance\, dont ils profiteront\, autant qu’ils le souhaitent\, en toute sécurité. \nVenez partager un bon moment avec vos enfants :\nLes mercredis 01/10 – 05/11- 03/12 – 07/01 – 04/02 – 04/03 – 01/04 – 06/05 – 03/06  de 9h30 à 12h et de 14h à 17h \nConditions d’accès : \n\nA destination des enfants jusqu’à 5 ans et de leurs parents\nGratuit\nPlaces limitées\, sans inscription\nPlus d’informations au : 04 50 49 23 68\n\n 
URL:https://www.maisondeshabitants.fr/agenda/espace-de-motricite-pour-les-0-5-ans/2026-03-04/
LOCATION:La MIEF\, 3 rue du Jura\, Saint-Julien-en-Genevois\, 74160\, France
CATEGORIES:Activités corporelles,Enfants,Famille,Parentalité
ATTACH;FMTTYPE=image/jpeg:https://www.maisondeshabitants.fr/wp-content/uploads/2025/09/Bandeau-site-Espace-motricite-OK-1600-x-900-px.jpg
ORGANIZER;CN="Maison des Habitants":MAILTO:info@maisondeshabitants.fr
GEO:46.1457561;6.0824952
X-APPLE-STRUCTURED-LOCATION;VALUE=URI;X-ADDRESS=La MIEF 3 rue du Jura Saint-Julien-en-Genevois 74160 France;X-APPLE-RADIUS=500;X-TITLE=3 rue du Jura:geo:6.0824952,46.1457561
END:VEVENT
BEGIN:VEVENT
DTSTART;TZID=Europe/Paris:20260311T103000
DTEND;TZID=Europe/Paris:20260311T113000
DTSTAMP:20260424T030535
CREATED:20260220T152232Z
LAST-MODIFIED:20260312T084802Z
UID:10000692-1773225000-1773228600@www.maisondeshabitants.fr
SUMMARY:Yoga en Famille
DESCRIPTION:Trois séances « Yoga en Famille » avec Ilenia Morano\, enseignante certifiée Yoga alliance International. \nLe yoga en famille est une activité bénéfique pour la santé et le bien-être\, qui permet de renforcer les liens familiaux tout en favorisant l’épanouissement individuel de chaque membre. C’est une belle manière de prendre soin de soi et des autres\, dans la simplicité et la joie du partage. \nLes 11\, 18 et 25 mars\, de 10h30 à 11h30 à la Maison des Habitants. \nConditions d’accès : \n\nEnfant de 3 ans à 10 ans\, accompagnés de leurs parents\nPlaces limitées\n15€/famille/séance.  Adhésion* à la MdH nécessaire\nInscription auprès de l’accueil de la Maison des habitants ou via l’Espace Famille\nPlus d’informations au : 04 50 49 23 68\n\n*L’adhésion est valable jusqu’au 31 août 2026 et vous donne accès aux activités\, animations\, stages\,… gratuits ou payants\, proposés par notre structure.
URL:https://www.maisondeshabitants.fr/agenda/yoga-en-famille-3/
LOCATION:La MIEF\, 3 rue du Jura\, Saint-Julien-en-Genevois\, 74160\, France
CATEGORIES:Activités corporelles,Bien être,Famille,Parentalité
ATTACH;FMTTYPE=image/png:https://www.maisondeshabitants.fr/wp-content/uploads/2026/02/Bandeau-site-Yoga-en-famille-llenia-mars-26.png
ORGANIZER;CN="Maison des Habitants":MAILTO:info@maisondeshabitants.fr
GEO:46.1457561;6.0824952
X-APPLE-STRUCTURED-LOCATION;VALUE=URI;X-ADDRESS=La MIEF 3 rue du Jura Saint-Julien-en-Genevois 74160 France;X-APPLE-RADIUS=500;X-TITLE=3 rue du Jura:geo:6.0824952,46.1457561
END:VEVENT
BEGIN:VEVENT
DTSTART;TZID=Europe/Paris:20260314T100000
DTEND;TZID=Europe/Paris:20260314T180000
DTSTAMP:20260424T030535
CREATED:20260217T142013Z
LAST-MODIFIED:20260217T142104Z
UID:10000584-1773482400-1773511200@www.maisondeshabitants.fr
SUMMARY:Festival Couleurs d'Enfance ! - Les aventuriers de la nature
DESCRIPTION:Mars revient avec la 10e édition du Festival Couleurs d’Enfance ! et nous y participons comme chaque année.\nDu 1er au 28 mars 2026\, les partenaires du territoire du Genevois vous invitent à voyager entre littérature\, spectacles\, cinéma et animations.\nUn grand rendez-vous pour petits et grands\, placé sous le signe de l’imaginaire\, de la créativité et de la poésie. Les communes et structures participantes vous attendent aux côtés des artistes\, animateurs et conteurs. \nSamedi 14 mars\, de 10h à 12h et de 14h à 18h\, rendez-vous aux aventuriers de la nature !\nProfitez de cet atelier autour de la nature avec fabrication de nichoirs\, nourrissage des oiseaux\, observation de la faune autour des locaux de la Maison des Habitants. \nConditions d’accès : \n\nEnfants de 5 à 10 ans accompagnés d’un parents\nGratuit\, sans inscription\, dans la limite des places disponibles\nPlus d’information auprès de notre accueil 04 50 49 23 68 ou info@maisondeshabitants.fr\n\nProgramme complet du Festival
URL:https://www.maisondeshabitants.fr/agenda/festival-couleurs-denfance-les-aventuriers-de-la-nature/
LOCATION:La MIEF\, 3 rue du Jura\, Saint-Julien-en-Genevois\, 74160\, France
CATEGORIES:Développement durable,Enfants,Famille,Parentalité
ATTACH;FMTTYPE=image/png:https://www.maisondeshabitants.fr/wp-content/uploads/2026/02/Bandeau-site-aventuriers-nature-Couleurs-dEnfance-2026.png
ORGANIZER;CN="Maison des Habitants":MAILTO:info@maisondeshabitants.fr
GEO:46.1457561;6.0824952
X-APPLE-STRUCTURED-LOCATION;VALUE=URI;X-ADDRESS=La MIEF 3 rue du Jura Saint-Julien-en-Genevois 74160 France;X-APPLE-RADIUS=500;X-TITLE=3 rue du Jura:geo:6.0824952,46.1457561
END:VEVENT
BEGIN:VEVENT
DTSTART;TZID=Europe/Paris:20260314T100000
DTEND;TZID=Europe/Paris:20260314T180000
DTSTAMP:20260424T030535
CREATED:20260217T142538Z
LAST-MODIFIED:20260217T142704Z
UID:10000585-1773482400-1773511200@www.maisondeshabitants.fr
SUMMARY:Festival Couleurs d'Enfance ! - Espace motricité
DESCRIPTION:Mars revient avec la 10e édition du Festival Couleurs d’Enfance ! et nous y participons comme chaque année.\nDu 1er au 28 mars 2026\, les partenaires du territoire du Genevois vous invitent à voyager entre littérature\, spectacles\, cinéma et animations.\nUn grand rendez-vous pour petits et grands\, placé sous le signe de l’imaginaire\, de la créativité et de la poésie. Les communes et structures participantes vous attendent aux côtés des artistes\, animateurs et conteurs. \nLes samedis 14  et 28 mars\, de 10h à 12h et de 14h à 18h\, venez jouer\, courir\, sauter\, rouler… dans notre Espace motricité\nCet espace est dédié aux tout-petits de 0 à 5 ans\, il leur permettra de bouger\, s’amuser ensemble et de s’exprimer grâce à leur corps. \nConditions d’accès : \n\nEnfants de 0 à 5 ans accompagnés d’un parents\nGratuit\, sans inscription\, dans la limite des places disponibles\nPlus d’information auprès de notre accueil 04 50 49 23 68 ou info@maisondeshabitants.fr\n\nProgramme complet du Festival
URL:https://www.maisondeshabitants.fr/agenda/festival-couleurs-denfance-espace-motricite/
LOCATION:La MIEF\, 3 rue du Jura\, Saint-Julien-en-Genevois\, 74160\, France
CATEGORIES:Activités corporelles,Enfants,Famille,Parentalité
ATTACH;FMTTYPE=image/png:https://www.maisondeshabitants.fr/wp-content/uploads/2026/02/Bandeau-site-espace-motricite-Couleurs-dEnfance-2026.png
ORGANIZER;CN="Maison des Habitants":MAILTO:info@maisondeshabitants.fr
GEO:46.1457561;6.0824952
X-APPLE-STRUCTURED-LOCATION;VALUE=URI;X-ADDRESS=La MIEF 3 rue du Jura Saint-Julien-en-Genevois 74160 France;X-APPLE-RADIUS=500;X-TITLE=3 rue du Jura:geo:6.0824952,46.1457561
END:VEVENT
BEGIN:VEVENT
DTSTART;TZID=Europe/Paris:20260314T100000
DTEND;TZID=Europe/Paris:20260314T180000
DTSTAMP:20260424T030535
CREATED:20260217T144056Z
LAST-MODIFIED:20260217T144056Z
UID:10000589-1773482400-1773511200@www.maisondeshabitants.fr
SUMMARY:Festival Couleurs d'Enfance ! - Les aventuriers du jeu
DESCRIPTION:Mars revient avec la 10e édition du Festival Couleurs d’Enfance ! et nous y participons comme chaque année.\nDu 1er au 28 mars 2026\, les partenaires du territoire du Genevois vous invitent à voyager entre littérature\, spectacles\, cinéma et animations.\nUn grand rendez-vous pour petits et grands\, placé sous le signe de l’imaginaire\, de la créativité et de la poésie. Les communes et structures participantes vous attendent aux côtés des artistes\, animateurs et conteurs. \nLes samedis 14 et 28 mars\, de 10h à 12h et de 14h à 18h\, rendez-vous aux aventuriers du jeu !\nOn vous propose un atelier autour du jeu de société\, venez jouer en famille avec différents types de jeux (jeu de coopération\, jeu de plateau\, jeu de carte\, quizz…). \nConditions d’accès : \n\nEnfants de 3 à 10 ans accompagnés d’un parents\nGratuit\, sans inscription\, dans la limite des places disponibles\nPlus d’information auprès de notre accueil 04 50 49 23 68 ou info@maisondeshabitants.fr\n\nProgramme complet du Festival
URL:https://www.maisondeshabitants.fr/agenda/festival-couleurs-denfance-les-aventuriers-du-jeu/
LOCATION:La MIEF\, 3 rue du Jura\, Saint-Julien-en-Genevois\, 74160\, France
CATEGORIES:Enfants,Famille,Jeu,Parentalité
ATTACH;FMTTYPE=image/png:https://www.maisondeshabitants.fr/wp-content/uploads/2026/02/Bandeau-site-aventurier-jeu-Couleurs-dEnfance-2026.png
ORGANIZER;CN="Maison des Habitants":MAILTO:info@maisondeshabitants.fr
GEO:46.1457561;6.0824952
X-APPLE-STRUCTURED-LOCATION;VALUE=URI;X-ADDRESS=La MIEF 3 rue du Jura Saint-Julien-en-Genevois 74160 France;X-APPLE-RADIUS=500;X-TITLE=3 rue du Jura:geo:6.0824952,46.1457561
END:VEVENT
BEGIN:VEVENT
DTSTART;TZID=Europe/Paris:20260318T103000
DTEND;TZID=Europe/Paris:20260318T113000
DTSTAMP:20260424T030535
CREATED:20260220T152258Z
LAST-MODIFIED:20260312T084746Z
UID:10000693-1773829800-1773833400@www.maisondeshabitants.fr
SUMMARY:Yoga en Famille
DESCRIPTION:Trois séances « Yoga en Famille » avec Ilenia Morano\, enseignante certifiée Yoga alliance International. \nLe yoga en famille est une activité bénéfique pour la santé et le bien-être\, qui permet de renforcer les liens familiaux tout en favorisant l’épanouissement individuel de chaque membre. C’est une belle manière de prendre soin de soi et des autres\, dans la simplicité et la joie du partage. \nLes 11\, 18 et 25 mars\, de 10h30 à 11h30 à la Maison des Habitants. \nConditions d’accès : \n\nEnfant de 3 ans à 10 ans\, accompagnés de leurs parents\nPlaces limitées\n15€/famille/séance.  Adhésion* à la MdH nécessaire\nInscription auprès de l’accueil de la Maison des habitants ou via l’Espace Famille\nPlus d’informations au : 04 50 49 23 68\n\n*L’adhésion est valable jusqu’au 31 août 2026 et vous donne accès aux activités\, animations\, stages\,… gratuits ou payants\, proposés par notre structure.
URL:https://www.maisondeshabitants.fr/agenda/yoga-en-famille-4/
LOCATION:La MIEF\, 3 rue du Jura\, Saint-Julien-en-Genevois\, 74160\, France
CATEGORIES:Activités corporelles,Bien être,Famille,Parentalité
ATTACH;FMTTYPE=image/png:https://www.maisondeshabitants.fr/wp-content/uploads/2026/02/Bandeau-site-Yoga-en-famille-llenia-mars-26.png
ORGANIZER;CN="Maison des Habitants":MAILTO:info@maisondeshabitants.fr
GEO:46.1457561;6.0824952
X-APPLE-STRUCTURED-LOCATION;VALUE=URI;X-ADDRESS=La MIEF 3 rue du Jura Saint-Julien-en-Genevois 74160 France;X-APPLE-RADIUS=500;X-TITLE=3 rue du Jura:geo:6.0824952,46.1457561
END:VEVENT
BEGIN:VEVENT
DTSTART;TZID=Europe/Paris:20260325T103000
DTEND;TZID=Europe/Paris:20260325T113000
DTSTAMP:20260424T030535
CREATED:20260220T152316Z
LAST-MODIFIED:20260312T084558Z
UID:10000694-1774434600-1774438200@www.maisondeshabitants.fr
SUMMARY:Yoga en Famille
DESCRIPTION:Trois séances « Yoga en Famille » avec Ilenia Morano\, enseignante certifiée Yoga alliance International. \nLe yoga en famille est une activité bénéfique pour la santé et le bien-être\, qui permet de renforcer les liens familiaux tout en favorisant l’épanouissement individuel de chaque membre. C’est une belle manière de prendre soin de soi et des autres\, dans la simplicité et la joie du partage. \nLes 11\, 18 et 25 mars\, de 10h30 à 11h30 à la Maison des Habitants. \nConditions d’accès : \n\nEnfant de 3 ans à 10 ans\, accompagnés de leurs parents\nPlaces limitées\n15€/famille/séance.  Adhésion* à la MdH nécessaire\nInscription auprès de l’accueil de la Maison des habitants ou via l’Espace Famille\nPlus d’informations au : 04 50 49 23 68\n\n*L’adhésion est valable jusqu’au 31 août 2026 et vous donne accès aux activités\, animations\, stages\,… gratuits ou payants\, proposés par notre structure.
URL:https://www.maisondeshabitants.fr/agenda/yoga-en-famille-5/
LOCATION:La MIEF\, 3 rue du Jura\, Saint-Julien-en-Genevois\, 74160\, France
CATEGORIES:Activités corporelles,Bien être,Famille,Parentalité
ATTACH;FMTTYPE=image/png:https://www.maisondeshabitants.fr/wp-content/uploads/2026/02/Bandeau-site-Yoga-en-famille-llenia-mars-26.png
ORGANIZER;CN="Maison des Habitants":MAILTO:info@maisondeshabitants.fr
GEO:46.1457561;6.0824952
X-APPLE-STRUCTURED-LOCATION;VALUE=URI;X-ADDRESS=La MIEF 3 rue du Jura Saint-Julien-en-Genevois 74160 France;X-APPLE-RADIUS=500;X-TITLE=3 rue du Jura:geo:6.0824952,46.1457561
END:VEVENT
BEGIN:VEVENT
DTSTART;TZID=Europe/Paris:20260328T100000
DTEND;TZID=Europe/Paris:20260328T180000
DTSTAMP:20260424T030535
CREATED:20260217T143143Z
LAST-MODIFIED:20260217T143150Z
UID:10000586-1774692000-1774720800@www.maisondeshabitants.fr
SUMMARY:Festival Couleurs d'Enfance ! - Espace motricité
DESCRIPTION:Mars revient avec la 10e édition du Festival Couleurs d’Enfance ! et nous y participons comme chaque année.\nDu 1er au 28 mars 2026\, les partenaires du territoire du Genevois vous invitent à voyager entre littérature\, spectacles\, cinéma et animations.\nUn grand rendez-vous pour petits et grands\, placé sous le signe de l’imaginaire\, de la créativité et de la poésie. Les communes et structures participantes vous attendent aux côtés des artistes\, animateurs et conteurs. \nLes samedis 14  et 28 mars\, de 10h à 12h et de 14h à 18h\, venez jouer\, courir\, sauter\, rouler… dans notre Espace motricité\nCet espace est dédié aux tout-petits de 0 à 5 ans\, il leur permettra de bouger\, s’amuser ensemble et de s’exprimer grâce à leur corps. \nConditions d’accès : \n\nEnfants de 0 à 5 ans accompagnés d’un parents\nGratuit\, sans inscription\, dans la limite des places disponibles\nPlus d’information auprès de notre accueil 04 50 49 23 68 ou info@maisondeshabitants.fr\n\nProgramme complet du Festival
URL:https://www.maisondeshabitants.fr/agenda/festival-couleurs-denfance-espace-motricite-3/
LOCATION:La MIEF\, 3 rue du Jura\, Saint-Julien-en-Genevois\, 74160\, France
CATEGORIES:Activités corporelles,Enfants,Famille,Parentalité
ATTACH;FMTTYPE=image/png:https://www.maisondeshabitants.fr/wp-content/uploads/2026/02/Bandeau-site-espace-motricite-Couleurs-dEnfance-2026.png
ORGANIZER;CN="Maison des Habitants":MAILTO:info@maisondeshabitants.fr
GEO:46.1457561;6.0824952
X-APPLE-STRUCTURED-LOCATION;VALUE=URI;X-ADDRESS=La MIEF 3 rue du Jura Saint-Julien-en-Genevois 74160 France;X-APPLE-RADIUS=500;X-TITLE=3 rue du Jura:geo:6.0824952,46.1457561
END:VEVENT
BEGIN:VEVENT
DTSTART;TZID=Europe/Paris:20260328T100000
DTEND;TZID=Europe/Paris:20260328T180000
DTSTAMP:20260424T030535
CREATED:20260217T144142Z
LAST-MODIFIED:20260217T144142Z
UID:10000590-1774692000-1774720800@www.maisondeshabitants.fr
SUMMARY:Festival Couleurs d'Enfance ! - Les aventuriers du jeu
DESCRIPTION:Mars revient avec la 10e édition du Festival Couleurs d’Enfance ! et nous y participons comme chaque année.\nDu 1er au 28 mars 2026\, les partenaires du territoire du Genevois vous invitent à voyager entre littérature\, spectacles\, cinéma et animations.\nUn grand rendez-vous pour petits et grands\, placé sous le signe de l’imaginaire\, de la créativité et de la poésie. Les communes et structures participantes vous attendent aux côtés des artistes\, animateurs et conteurs. \nLes samedis 14 et 28 mars\, de 10h à 12h et de 14h à 18h\, rendez-vous aux aventuriers du jeu !\nOn vous propose un atelier autour du jeu de société\, venez jouer en famille avec différents types de jeux (jeu de coopération\, jeu de plateau\, jeu de carte\, quizz…). \nConditions d’accès : \n\nEnfants de 3 à 10 ans accompagnés d’un parents\nGratuit\, sans inscription\, dans la limite des places disponibles\nPlus d’information auprès de notre accueil 04 50 49 23 68 ou info@maisondeshabitants.fr\n\nProgramme complet du Festival
URL:https://www.maisondeshabitants.fr/agenda/festival-couleurs-denfance-les-aventuriers-du-jeu-2/
LOCATION:La MIEF\, 3 rue du Jura\, Saint-Julien-en-Genevois\, 74160\, France
CATEGORIES:Enfants,Famille,Jeu,Parentalité
ATTACH;FMTTYPE=image/png:https://www.maisondeshabitants.fr/wp-content/uploads/2026/02/Bandeau-site-aventurier-jeu-Couleurs-dEnfance-2026.png
ORGANIZER;CN="Maison des Habitants":MAILTO:info@maisondeshabitants.fr
GEO:46.1457561;6.0824952
X-APPLE-STRUCTURED-LOCATION;VALUE=URI;X-ADDRESS=La MIEF 3 rue du Jura Saint-Julien-en-Genevois 74160 France;X-APPLE-RADIUS=500;X-TITLE=3 rue du Jura:geo:6.0824952,46.1457561
END:VEVENT
BEGIN:VEVENT
DTSTART;TZID=Europe/Paris:20260328T100000
DTEND;TZID=Europe/Paris:20260328T180000
DTSTAMP:20260424T030535
CREATED:20260217T144852Z
LAST-MODIFIED:20260217T144852Z
UID:10000591-1774692000-1774720800@www.maisondeshabitants.fr
SUMMARY:Festival Couleurs d'Enfance ! - La Maison du Lego®
DESCRIPTION:Mars revient avec la 10e édition du Festival Couleurs d’Enfance ! et nous y participons comme chaque année.\nDu 1er au 28 mars 2026\, les partenaires du territoire du Genevois vous invitent à voyager entre littérature\, spectacles\, cinéma et animations.\nUn grand rendez-vous pour petits et grands\, placé sous le signe de l’imaginaire\, de la créativité et de la poésie. Les communes et structures participantes vous attendent aux côtés des artistes\, animateurs et conteurs. \nSamedi 28 mars\, de 10h à 12h et de 14h à 18h\, le temps d’une journée la MdH devient la Maison du Lego®\nRetrouvez-nous pour donner vie à votre créativité grâce à une variété de modèles et à différents niveaux autour de votre brique préférée !\nUn moment de plaisir\, de découverte et d’imagination à partager autour de LEGO®. \nConditions d’accès : \n\nEnfants de 5 à 10 ans accompagnés d’un parents\nGratuit\, sans inscription\, dans la limite des places disponibles\nPlus d’information auprès de notre accueil 04 50 49 23 68 ou info@maisondeshabitants.fr\n\nProgramme complet du Festival
URL:https://www.maisondeshabitants.fr/agenda/festival-couleurs-denfance-la-maison-du-lego/
LOCATION:La MIEF\, 3 rue du Jura\, Saint-Julien-en-Genevois\, 74160\, France
CATEGORIES:Activités corporelles,Enfants,Famille,Parentalité
ATTACH;FMTTYPE=image/png:https://www.maisondeshabitants.fr/wp-content/uploads/2026/02/Bandeau-site-maison-Lego-Couleurs-dEnfance-2026.png
ORGANIZER;CN="Maison des Habitants":MAILTO:info@maisondeshabitants.fr
GEO:46.1457561;6.0824952
X-APPLE-STRUCTURED-LOCATION;VALUE=URI;X-ADDRESS=La MIEF 3 rue du Jura Saint-Julien-en-Genevois 74160 France;X-APPLE-RADIUS=500;X-TITLE=3 rue du Jura:geo:6.0824952,46.1457561
END:VEVENT
BEGIN:VEVENT
DTSTART;TZID=Europe/Paris:20260330T100000
DTEND;TZID=Europe/Paris:20260330T110000
DTSTAMP:20260424T030535
CREATED:20260309T145936Z
LAST-MODIFIED:20260312T084113Z
UID:10000699-1774864800-1774868400@www.maisondeshabitants.fr
SUMMARY:Atelier poterie en famille
DESCRIPTION:Au cours de trois ateliers encadrés par Isabelle Collombet\, découvrez avec votre enfant le plaisir de manipuler l’argile ! \nÀ travers des projets ludiques\, façonnez la terre et explorez différentes formes et textures. Cette activité à la fois amusante et apaisante stimule la créativité des enfants tout en développant leur motricité fine. \nLes lundis 30 mars\, 20 et 27 avril de 10h à 11h à la Maison des Habitants. \nAu programme : \n\n30 mars\, jeux de patouille\n20 avril\, découverte sensorielle\n27 avril\, empreinte éternelle\n\nConditions d’accès : \n\nEnfant de 18 mois à 4 ans\, accompagnés de leurs parents\nPlaces limitées\n25€/famille/séance.  Adhésion* à la MdH nécessaire\nInscription auprès de l’accueil de la Maison des habitants ou via l’Espace Famille\nPlus d’informations au : 04 50 49 23 68\n\n*L’adhésion est valable jusqu’au 31 août 2026 et vous donne accès aux activités\, animations\, stage\,… gratuits ou payants\, proposés par notre structure.
URL:https://www.maisondeshabitants.fr/agenda/atelier-poterie-en-famille/
LOCATION:La MIEF\, 3 rue du Jura\, Saint-Julien-en-Genevois\, 74160\, France
CATEGORIES:Activités manuelles,Famille,Les "ateliers",Parentalité
ATTACH;FMTTYPE=image/png:https://www.maisondeshabitants.fr/wp-content/uploads/2026/03/Bandeau-site-Poterie-parents-enfants-30-mars-ok.png
ORGANIZER;CN="Maison des Habitants":MAILTO:info@maisondeshabitants.fr
GEO:46.1457561;6.0824952
X-APPLE-STRUCTURED-LOCATION;VALUE=URI;X-ADDRESS=La MIEF 3 rue du Jura Saint-Julien-en-Genevois 74160 France;X-APPLE-RADIUS=500;X-TITLE=3 rue du Jura:geo:6.0824952,46.1457561
END:VEVENT
END:VCALENDAR