BEGIN:VCALENDAR
VERSION:2.0
PRODID:-//Maison des Habitants - MJC Centre Social | St-Julien - ECPv6.15.16//NONSGML v1.0//EN
CALSCALE:GREGORIAN
METHOD:PUBLISH
X-WR-CALNAME:Maison des Habitants - MJC Centre Social | St-Julien
X-ORIGINAL-URL:https://www.maisondeshabitants.fr
X-WR-CALDESC:Évènements pour Maison des Habitants - MJC Centre Social | St-Julien
REFRESH-INTERVAL;VALUE=DURATION:PT1H
X-Robots-Tag:noindex
X-PUBLISHED-TTL:PT1H
BEGIN:VTIMEZONE
TZID:Europe/Paris
BEGIN:DAYLIGHT
TZOFFSETFROM:+0100
TZOFFSETTO:+0200
TZNAME:CEST
DTSTART:20250330T010000
END:DAYLIGHT
BEGIN:STANDARD
TZOFFSETFROM:+0200
TZOFFSETTO:+0100
TZNAME:CET
DTSTART:20251026T010000
END:STANDARD
BEGIN:DAYLIGHT
TZOFFSETFROM:+0100
TZOFFSETTO:+0200
TZNAME:CEST
DTSTART:20260329T010000
END:DAYLIGHT
BEGIN:STANDARD
TZOFFSETFROM:+0200
TZOFFSETTO:+0100
TZNAME:CET
DTSTART:20261025T010000
END:STANDARD
BEGIN:DAYLIGHT
TZOFFSETFROM:+0100
TZOFFSETTO:+0200
TZNAME:CEST
DTSTART:20270328T010000
END:DAYLIGHT
BEGIN:STANDARD
TZOFFSETFROM:+0200
TZOFFSETTO:+0100
TZNAME:CET
DTSTART:20271031T010000
END:STANDARD
END:VTIMEZONE
BEGIN:VEVENT
DTSTART;TZID=Europe/Paris:20260427T100000
DTEND;TZID=Europe/Paris:20260427T110000
DTSTAMP:20260424T012127
CREATED:20260309T150337Z
LAST-MODIFIED:20260331T152341Z
UID:10000701-1777284000-1777287600@www.maisondeshabitants.fr
SUMMARY:Atelier poterie en famille
DESCRIPTION:Dernier atelier du cycle encadré par Isabelle Collombet\, découvrez avec votre enfant le plaisir de manipuler l’argile ! \nÀ travers des projets ludiques\, façonnez la terre et explorez différentes formes et textures. Cette activité à la fois amusante et apaisante stimule la créativité des enfants tout en développant leur motricité fine. \nLes lundis 30 mars\, 20 et 27 avril de 10h à 11h à la Maison des Habitants. \nAu programme : \n\n27 avril\, empreinte éternelle : cette activité consiste à réaliser une suspension décorative en argile. L’enfant (accompagné de son parent) imprime la trace de sa main et/ou de son pied. Une fois l’empreinte réalisée\, l’enfant ou le parent peut personnaliser sa création. A la fin de l’activité\, le parent et l’enfant repartent avec leur création.\n\nConditions d’accès : \n\nEnfant de 18 mois à 4 ans\, accompagnés de leurs parents\nPlaces limitées\n25€/famille/séance.  Adhésion* à la MdH nécessaire\nInscription auprès de l’accueil de la Maison des habitants ou via l’Espace Famille\nPlus d’informations au : 04 50 49 23 68\n\n*L’adhésion est valable jusqu’au 31 août 2026 et vous donne accès aux activités\, animations\, stage\,… gratuits ou payants\, proposés par notre structure.
URL:https://www.maisondeshabitants.fr/agenda/atelier-poterie-en-famille-3/
LOCATION:La MIEF\, 3 rue du Jura\, Saint-Julien-en-Genevois\, 74160\, France
CATEGORIES:Activités manuelles,Famille,Les "ateliers",Parentalité
ATTACH;FMTTYPE=image/png:https://www.maisondeshabitants.fr/wp-content/uploads/2026/03/Bandeau-site-Poterie-parents-enfants-27-avril-ok.png
ORGANIZER;CN="Maison des Habitants":MAILTO:info@maisondeshabitants.fr
GEO:46.1457561;6.0824952
X-APPLE-STRUCTURED-LOCATION;VALUE=URI;X-ADDRESS=La MIEF 3 rue du Jura Saint-Julien-en-Genevois 74160 France;X-APPLE-RADIUS=500;X-TITLE=3 rue du Jura:geo:6.0824952,46.1457561
END:VEVENT
BEGIN:VEVENT
DTSTART;TZID=Europe/Paris:20260506T080000
DTEND;TZID=Europe/Paris:20260506T170000
DTSTAMP:20260424T012127
CREATED:20250925T085530Z
LAST-MODIFIED:20260216T100656Z
UID:10000572-1778054400-1778086800@www.maisondeshabitants.fr
SUMMARY:Espace de motricité pour les 0-5 ans
DESCRIPTION:Un mercredi par mois\, l’Espace motricité est à votre disposition ! \nLa Maison des Habitants vous propose un espace de motricité dédié aux tout-petits de 0 à 5 ans\, qui leur permettra de bouger\, sauter\, jouer ensemble\, de s’exprimer grâce à leur corps. Nous mettons à leur disposition des éléments imaginés par des professionnels de l’enfance\, dont ils profiteront\, autant qu’ils le souhaitent\, en toute sécurité. \nVenez partager un bon moment avec vos enfants :\nLes mercredis 01/10 – 05/11- 03/12 – 07/01 – 04/02 – 04/03 – 01/04 – 06/05 – 03/06  de 9h30 à 12h et de 14h à 17h \nConditions d’accès : \n\nA destination des enfants jusqu’à 5 ans et de leurs parents\nGratuit\nPlaces limitées\, sans inscription\nPlus d’informations au : 04 50 49 23 68\n\n 
URL:https://www.maisondeshabitants.fr/agenda/espace-de-motricite-pour-les-0-5-ans/2026-05-06/
LOCATION:La MIEF\, 3 rue du Jura\, Saint-Julien-en-Genevois\, 74160\, France
CATEGORIES:Activités corporelles,Enfants,Famille,Parentalité
ATTACH;FMTTYPE=image/jpeg:https://www.maisondeshabitants.fr/wp-content/uploads/2025/09/Bandeau-site-Espace-motricite-OK-1600-x-900-px.jpg
ORGANIZER;CN="Maison des Habitants":MAILTO:info@maisondeshabitants.fr
GEO:46.1457561;6.0824952
X-APPLE-STRUCTURED-LOCATION;VALUE=URI;X-ADDRESS=La MIEF 3 rue du Jura Saint-Julien-en-Genevois 74160 France;X-APPLE-RADIUS=500;X-TITLE=3 rue du Jura:geo:6.0824952,46.1457561
END:VEVENT
BEGIN:VEVENT
DTSTART;TZID=Europe/Paris:20260506T100000
DTEND;TZID=Europe/Paris:20260506T103000
DTSTAMP:20260424T012127
CREATED:20260330T145800Z
LAST-MODIFIED:20260330T150126Z
UID:10000713-1778061600-1778063400@www.maisondeshabitants.fr
SUMMARY:Cuisinez en famille - atelier petit déjeuner équilibré
DESCRIPTION:Atelier Cuisinez en famille\, avec Corinne Calvez\, diététicienne et nutritionniste.\nLes mercredis 6\, 13\, 20 et 27 mai\, de 10h à 11h30\, à la Maison des Habitants\, venez partager un moment convivial en famille autour de la cuisine ! \nAu cours de ces ateliers\, vous préparerez différentes recettes que vous aurez ensuite le plaisir de déguster ensemble à la fin de la séance.\nVous serez accompagnés par Corinne Calvez\, diététicienne nutritionniste et cheffe cuisinière passionnée\, qui vous guidera dans la réalisation de recettes simples\, gourmandes et faciles à refaire à la maison. \nAu programme : \n\nCe merdredi 6 mai : Petit-déjeuner équilibré\n13 mai : Goûter équilibré\n20 et 27 mai : Repas équilibrés\n\nConditions d’accès : \n\nEnfant de 5 à 10 ans\, accompagnés d’un parent\nPlaces limitées\n25€/famille/atelier.  Adhésion* à la MdH nécessaire\nInscription auprès de l’accueil de la Maison des habitants ou via l’Espace Famille\nPlus d’informations au : 04 50 49 23 68\n\n*L’adhésion est valable jusqu’au 31 août 2026 et vous donne accès aux activités\, animations\, stage\,… gratuits ou payants\, proposés par notre structure.
URL:https://www.maisondeshabitants.fr/agenda/cuisinez-en-famille-atelier-petit-dejeuner-equilibre/
LOCATION:La MIEF\, 3 rue du Jura\, Saint-Julien-en-Genevois\, 74160\, France
CATEGORIES:Activités manuelles,Famille,Les "ateliers",Parentalité
ATTACH;FMTTYPE=image/png:https://www.maisondeshabitants.fr/wp-content/uploads/2026/03/Bandeau-site-cuisinez-en-famille-1600-x-900-px.png
ORGANIZER;CN="Maison des Habitants":MAILTO:info@maisondeshabitants.fr
GEO:46.1457561;6.0824952
X-APPLE-STRUCTURED-LOCATION;VALUE=URI;X-ADDRESS=La MIEF 3 rue du Jura Saint-Julien-en-Genevois 74160 France;X-APPLE-RADIUS=500;X-TITLE=3 rue du Jura:geo:6.0824952,46.1457561
END:VEVENT
BEGIN:VEVENT
DTSTART;TZID=Europe/Paris:20260513T100000
DTEND;TZID=Europe/Paris:20260513T103000
DTSTAMP:20260424T012127
CREATED:20260330T150004Z
LAST-MODIFIED:20260330T150212Z
UID:10000714-1778666400-1778668200@www.maisondeshabitants.fr
SUMMARY:Cuisinez en famille - goûter équilibré
DESCRIPTION:Atelier Cuisinez en famille\, avec Corinne Calvez\, diététicienne et nutritionniste.\nLes mercredis 6\, 13\, 20 et 27 mai\, de 10h à 11h30\, à la Maison des Habitants\, venez partager un moment convivial en famille autour de la cuisine ! \nAu cours de ces ateliers\, vous préparerez différentes recettes que vous aurez ensuite le plaisir de déguster ensemble à la fin de la séance.\nVous serez accompagnés par Corinne Calvez\, diététicienne nutritionniste et cheffe cuisinière passionnée\, qui vous guidera dans la réalisation de recettes simples\, gourmandes et faciles à refaire à la maison. \nAu programme : \n\n6 mai : Petit-déjeuner équilibré\nCe mercredi 13 mai : Goûter équilibré\n20 et 27 mai : Repas équilibrés\n\nConditions d’accès : \n\nEnfant de 5 à 10 ans\, accompagnés d’un parent\nPlaces limitées\n25€/famille/atelier.  Adhésion* à la MdH nécessaire\nInscription auprès de l’accueil de la Maison des habitants ou via l’Espace Famille\nPlus d’informations au : 04 50 49 23 68\n\n*L’adhésion est valable jusqu’au 31 août 2026 et vous donne accès aux activités\, animations\, stage\,… gratuits ou payants\, proposés par notre structure.
URL:https://www.maisondeshabitants.fr/agenda/cuisinez-en-famille-atelier-petit-dejeuner-equilibre-2/
LOCATION:La MIEF\, 3 rue du Jura\, Saint-Julien-en-Genevois\, 74160\, France
CATEGORIES:Activités manuelles,Famille,Les "ateliers",Parentalité
ATTACH;FMTTYPE=image/png:https://www.maisondeshabitants.fr/wp-content/uploads/2026/03/Bandeau-site-cuisinez-en-famille-1600-x-900-px.png
ORGANIZER;CN="Maison des Habitants":MAILTO:info@maisondeshabitants.fr
GEO:46.1457561;6.0824952
X-APPLE-STRUCTURED-LOCATION;VALUE=URI;X-ADDRESS=La MIEF 3 rue du Jura Saint-Julien-en-Genevois 74160 France;X-APPLE-RADIUS=500;X-TITLE=3 rue du Jura:geo:6.0824952,46.1457561
END:VEVENT
BEGIN:VEVENT
DTSTART;TZID=Europe/Paris:20260520T100000
DTEND;TZID=Europe/Paris:20260520T103000
DTSTAMP:20260424T012127
CREATED:20260330T150109Z
LAST-MODIFIED:20260330T150152Z
UID:10000715-1779271200-1779273000@www.maisondeshabitants.fr
SUMMARY:Cuisinez en famille - repas équilibrés
DESCRIPTION:Atelier Cuisinez en famille\, avec Corinne Calvez\, diététicienne et nutritionniste.\nLes mercredis 6\, 13\, 20 et 27 mai\, de 10h à 11h30\, à la Maison des Habitants\, venez partager un moment convivial en famille autour de la cuisine ! \nAu cours de ces ateliers\, vous préparerez différentes recettes que vous aurez ensuite le plaisir de déguster ensemble à la fin de la séance.\nVous serez accompagnés par Corinne Calvez\, diététicienne nutritionniste et cheffe cuisinière passionnée\, qui vous guidera dans la réalisation de recettes simples\, gourmandes et faciles à refaire à la maison. \nAu programme : \n\n6 mai : Petit-déjeuner équilibré\n13 mai : Goûter équilibré\nCe mercredi 20 mai : Repas équilibrés\n27 mai : Repas équilibrés\n\nConditions d’accès : \n\nEnfant de 5 à 10 ans\, accompagnés d’un parent\nPlaces limitées\n25€/famille/atelier.  Adhésion* à la MdH nécessaire\nInscription auprès de l’accueil de la Maison des habitants ou via l’Espace Famille\nPlus d’informations au : 04 50 49 23 68\n\n*L’adhésion est valable jusqu’au 31 août 2026 et vous donne accès aux activités\, animations\, stage\,… gratuits ou payants\, proposés par notre structure.
URL:https://www.maisondeshabitants.fr/agenda/cuisinez-en-famille-atelier-petit-dejeuner-equilibre-3/
LOCATION:La MIEF\, 3 rue du Jura\, Saint-Julien-en-Genevois\, 74160\, France
CATEGORIES:Activités manuelles,Famille,Les "ateliers",Parentalité
ATTACH;FMTTYPE=image/png:https://www.maisondeshabitants.fr/wp-content/uploads/2026/03/Bandeau-site-cuisinez-en-famille-1600-x-900-px.png
ORGANIZER;CN="Maison des Habitants":MAILTO:info@maisondeshabitants.fr
GEO:46.1457561;6.0824952
X-APPLE-STRUCTURED-LOCATION;VALUE=URI;X-ADDRESS=La MIEF 3 rue du Jura Saint-Julien-en-Genevois 74160 France;X-APPLE-RADIUS=500;X-TITLE=3 rue du Jura:geo:6.0824952,46.1457561
END:VEVENT
BEGIN:VEVENT
DTSTART;TZID=Europe/Paris:20260527T100000
DTEND;TZID=Europe/Paris:20260527T103000
DTSTAMP:20260424T012127
CREATED:20260330T150250Z
LAST-MODIFIED:20260330T150250Z
UID:10000716-1779876000-1779877800@www.maisondeshabitants.fr
SUMMARY:Cuisinez en famille - repas équilibrés
DESCRIPTION:Atelier Cuisinez en famille\, avec Corinne Calvez\, diététicienne et nutritionniste.\nLes mercredis 6\, 13\, 20 et 27 mai\, de 10h à 11h30\, à la Maison des Habitants\, venez partager un moment convivial en famille autour de la cuisine ! \nAu cours de ces ateliers\, vous préparerez différentes recettes que vous aurez ensuite le plaisir de déguster ensemble à la fin de la séance.\nVous serez accompagnés par Corinne Calvez\, diététicienne nutritionniste et cheffe cuisinière passionnée\, qui vous guidera dans la réalisation de recettes simples\, gourmandes et faciles à refaire à la maison. \nAu programme : \n\n6 mai : Petit-déjeuner équilibré\n13 mai : Goûter équilibré\n20 mai : Repas équilibrés\nCe mercredi 27 mai : Repas équilibrés\n\nConditions d’accès : \n\nEnfant de 5 à 10 ans\, accompagnés d’un parent\nPlaces limitées\n25€/famille/atelier.  Adhésion* à la MdH nécessaire\nInscription auprès de l’accueil de la Maison des habitants ou via l’Espace Famille\nPlus d’informations au : 04 50 49 23 68\n\n*L’adhésion est valable jusqu’au 31 août 2026 et vous donne accès aux activités\, animations\, stage\,… gratuits ou payants\, proposés par notre structure.
URL:https://www.maisondeshabitants.fr/agenda/cuisinez-en-famille-repas-equilibres/
LOCATION:La MIEF\, 3 rue du Jura\, Saint-Julien-en-Genevois\, 74160\, France
CATEGORIES:Activités manuelles,Famille,Les "ateliers",Parentalité
ATTACH;FMTTYPE=image/png:https://www.maisondeshabitants.fr/wp-content/uploads/2026/03/Bandeau-site-cuisinez-en-famille-1600-x-900-px.png
ORGANIZER;CN="Maison des Habitants":MAILTO:info@maisondeshabitants.fr
GEO:46.1457561;6.0824952
X-APPLE-STRUCTURED-LOCATION;VALUE=URI;X-ADDRESS=La MIEF 3 rue du Jura Saint-Julien-en-Genevois 74160 France;X-APPLE-RADIUS=500;X-TITLE=3 rue du Jura:geo:6.0824952,46.1457561
END:VEVENT
BEGIN:VEVENT
DTSTART;TZID=Europe/Paris:20260603T080000
DTEND;TZID=Europe/Paris:20260603T170000
DTSTAMP:20260424T012127
CREATED:20250925T085530Z
LAST-MODIFIED:20260216T100656Z
UID:10000573-1780473600-1780506000@www.maisondeshabitants.fr
SUMMARY:Espace de motricité pour les 0-5 ans
DESCRIPTION:Un mercredi par mois\, l’Espace motricité est à votre disposition ! \nLa Maison des Habitants vous propose un espace de motricité dédié aux tout-petits de 0 à 5 ans\, qui leur permettra de bouger\, sauter\, jouer ensemble\, de s’exprimer grâce à leur corps. Nous mettons à leur disposition des éléments imaginés par des professionnels de l’enfance\, dont ils profiteront\, autant qu’ils le souhaitent\, en toute sécurité. \nVenez partager un bon moment avec vos enfants :\nLes mercredis 01/10 – 05/11- 03/12 – 07/01 – 04/02 – 04/03 – 01/04 – 06/05 – 03/06  de 9h30 à 12h et de 14h à 17h \nConditions d’accès : \n\nA destination des enfants jusqu’à 5 ans et de leurs parents\nGratuit\nPlaces limitées\, sans inscription\nPlus d’informations au : 04 50 49 23 68\n\n 
URL:https://www.maisondeshabitants.fr/agenda/espace-de-motricite-pour-les-0-5-ans/2026-06-03/
LOCATION:La MIEF\, 3 rue du Jura\, Saint-Julien-en-Genevois\, 74160\, France
CATEGORIES:Activités corporelles,Enfants,Famille,Parentalité
ATTACH;FMTTYPE=image/jpeg:https://www.maisondeshabitants.fr/wp-content/uploads/2025/09/Bandeau-site-Espace-motricite-OK-1600-x-900-px.jpg
ORGANIZER;CN="Maison des Habitants":MAILTO:info@maisondeshabitants.fr
GEO:46.1457561;6.0824952
X-APPLE-STRUCTURED-LOCATION;VALUE=URI;X-ADDRESS=La MIEF 3 rue du Jura Saint-Julien-en-Genevois 74160 France;X-APPLE-RADIUS=500;X-TITLE=3 rue du Jura:geo:6.0824952,46.1457561
END:VEVENT
END:VCALENDAR